BEGIN:VCALENDAR
VERSION:2.0
PRODID:-//Oxford Bible Fellowship - ECPv6.15.20//NONSGML v1.0//EN
CALSCALE:GREGORIAN
METHOD:PUBLISH
X-WR-CALNAME:Oxford Bible Fellowship
X-ORIGINAL-URL:https://staging.obf.org
X-WR-CALDESC:Events for Oxford Bible Fellowship
REFRESH-INTERVAL;VALUE=DURATION:PT1H
X-Robots-Tag:noindex
X-PUBLISHED-TTL:PT1H
BEGIN:VTIMEZONE
TZID:America/New_York
BEGIN:DAYLIGHT
TZOFFSETFROM:-0500
TZOFFSETTO:-0400
TZNAME:EDT
DTSTART:20240310T070000
END:DAYLIGHT
BEGIN:STANDARD
TZOFFSETFROM:-0400
TZOFFSETTO:-0500
TZNAME:EST
DTSTART:20241103T060000
END:STANDARD
BEGIN:DAYLIGHT
TZOFFSETFROM:-0500
TZOFFSETTO:-0400
TZNAME:EDT
DTSTART:20250309T070000
END:DAYLIGHT
BEGIN:STANDARD
TZOFFSETFROM:-0400
TZOFFSETTO:-0500
TZNAME:EST
DTSTART:20251102T060000
END:STANDARD
BEGIN:DAYLIGHT
TZOFFSETFROM:-0500
TZOFFSETTO:-0400
TZNAME:EDT
DTSTART:20260308T070000
END:DAYLIGHT
BEGIN:STANDARD
TZOFFSETFROM:-0400
TZOFFSETTO:-0500
TZNAME:EST
DTSTART:20261101T060000
END:STANDARD
BEGIN:DAYLIGHT
TZOFFSETFROM:-0500
TZOFFSETTO:-0400
TZNAME:EDT
DTSTART:20270314T070000
END:DAYLIGHT
BEGIN:STANDARD
TZOFFSETFROM:-0400
TZOFFSETTO:-0500
TZNAME:EST
DTSTART:20271107T060000
END:STANDARD
END:VTIMEZONE
BEGIN:VEVENT
DTSTART;VALUE=DATE:20251213
DTEND;VALUE=DATE:20260106
DTSTAMP:20260424T165252
CREATED:20251120T192258Z
LAST-MODIFIED:20251214T022745Z
UID:3414-1765584000-1767657599@staging.obf.org
SUMMARY:Oxford Winter House: Help us make a difference–Volunteer today!
DESCRIPTION:Support efforts to prepare and run the Oxford Winter House\, a shelter for the unhoused in Oxford that will run 24/7 from December 1 to February 28\, regardless of outdoor temperature. Paid staff and trained volunteers will provide a warm bed\, food\, social service\, skills training\, support\, and companionship. \nTo volunteer to help prepare and serve an “OBF Tuesday Dinner” at the Oxford Winter House\, signup here or email Corrine Kidd at corrinekidd@gmail.com! 
URL:https://staging.obf.org/event/oxford-winter-house-help-us-make-a-difference-volunteer-today/
ATTACH;FMTTYPE=image/png:https://staging.obf.org/wp-content/uploads/2025/11/unnamed-41.png
END:VEVENT
END:VCALENDAR