BEGIN:VCALENDAR
VERSION:2.0
PRODID:-//Oxford Bible Fellowship - ECPv6.15.20//NONSGML v1.0//EN
CALSCALE:GREGORIAN
METHOD:PUBLISH
X-ORIGINAL-URL:https://staging.obf.org
X-WR-CALDESC:Events for Oxford Bible Fellowship
REFRESH-INTERVAL;VALUE=DURATION:PT1H
X-Robots-Tag:noindex
X-PUBLISHED-TTL:PT1H
BEGIN:VTIMEZONE
TZID:America/New_York
BEGIN:DAYLIGHT
TZOFFSETFROM:-0500
TZOFFSETTO:-0400
TZNAME:EDT
DTSTART:20250309T070000
END:DAYLIGHT
BEGIN:STANDARD
TZOFFSETFROM:-0400
TZOFFSETTO:-0500
TZNAME:EST
DTSTART:20251102T060000
END:STANDARD
BEGIN:DAYLIGHT
TZOFFSETFROM:-0500
TZOFFSETTO:-0400
TZNAME:EDT
DTSTART:20260308T070000
END:DAYLIGHT
BEGIN:STANDARD
TZOFFSETFROM:-0400
TZOFFSETTO:-0500
TZNAME:EST
DTSTART:20261101T060000
END:STANDARD
BEGIN:DAYLIGHT
TZOFFSETFROM:-0500
TZOFFSETTO:-0400
TZNAME:EDT
DTSTART:20270314T070000
END:DAYLIGHT
BEGIN:STANDARD
TZOFFSETFROM:-0400
TZOFFSETTO:-0500
TZNAME:EST
DTSTART:20271107T060000
END:STANDARD
END:VTIMEZONE
BEGIN:VEVENT
DTSTART;VALUE=DATE:20260123
DTEND;VALUE=DATE:20260125
DTSTAMP:20260424T151736
CREATED:20251219T195654Z
LAST-MODIFIED:20251219T195654Z
UID:3441-1769126400-1769299199@staging.obf.org
SUMMARY:Men’s Summit: Where God Sharpens Men 
DESCRIPTION:Join us on January 23rd and 24th for the Men’s Summit: Where God Sharpens Men—a powerful two-day event hosted in Lebanon\, OH. This conference is designed to inspire and equip you in your walk with Christ\, offering a unique opportunity to be challenged and encouraged alongside other men of faith. At a cost of just $25 (includes Friday dinner and Saturday breakfast)\, this is an investment in your spiritual growth you won’t want to miss! Come ready to be sharpened\, strengthened\, and sent out as a man of God! \nRegistration Register through the conference website here. After registering\, please contact Graham Kenworthy (Graham.Kenworthy@se.com) or Sam Perry (perrytrees@gmail.com) to coordinate logistics. For any additional questions\, email men@obf.org.
URL:https://staging.obf.org/event/mens-summit-where-god-sharpens-men/
ATTACH;FMTTYPE=image/png:https://staging.obf.org/wp-content/uploads/2025/12/unnamed-47.png
END:VEVENT
END:VCALENDAR