BEGIN:VCALENDAR
VERSION:2.0
PRODID:-//Oxford Bible Fellowship - ECPv6.15.20//NONSGML v1.0//EN
CALSCALE:GREGORIAN
METHOD:PUBLISH
X-WR-CALNAME:Oxford Bible Fellowship
X-ORIGINAL-URL:https://staging.obf.org
X-WR-CALDESC:Events for Oxford Bible Fellowship
REFRESH-INTERVAL;VALUE=DURATION:PT1H
X-Robots-Tag:noindex
X-PUBLISHED-TTL:PT1H
BEGIN:VTIMEZONE
TZID:America/New_York
BEGIN:DAYLIGHT
TZOFFSETFROM:-0500
TZOFFSETTO:-0400
TZNAME:EDT
DTSTART:20250309T070000
END:DAYLIGHT
BEGIN:STANDARD
TZOFFSETFROM:-0400
TZOFFSETTO:-0500
TZNAME:EST
DTSTART:20251102T060000
END:STANDARD
BEGIN:DAYLIGHT
TZOFFSETFROM:-0500
TZOFFSETTO:-0400
TZNAME:EDT
DTSTART:20260308T070000
END:DAYLIGHT
BEGIN:STANDARD
TZOFFSETFROM:-0400
TZOFFSETTO:-0500
TZNAME:EST
DTSTART:20261101T060000
END:STANDARD
BEGIN:DAYLIGHT
TZOFFSETFROM:-0500
TZOFFSETTO:-0400
TZNAME:EDT
DTSTART:20270314T070000
END:DAYLIGHT
BEGIN:STANDARD
TZOFFSETFROM:-0400
TZOFFSETTO:-0500
TZNAME:EST
DTSTART:20271107T060000
END:STANDARD
END:VTIMEZONE
BEGIN:VEVENT
DTSTART;TZID=America/New_York:20260222T090000
DTEND;TZID=America/New_York:20260222T113000
DTSTAMP:20260424T135955
CREATED:20260202T151414Z
LAST-MODIFIED:20260202T151414Z
UID:3480-1771750800-1771759800@staging.obf.org
SUMMARY:Baptism Sunday
DESCRIPTION:Are you interested in being baptized as a public profession of your faith in Christ? The next baptisms will take place on Sunday\, February 22nd. If you would like to learn more about baptism and the opportunity to publicly declare your faith in Christ\, please complete this interest form. A staff member will follow up with you to schedule an interview.
URL:https://staging.obf.org/event/baptism-sunday-7/
ATTACH;FMTTYPE=image/png:https://staging.obf.org/wp-content/uploads/2026/02/unnamed-49.png
END:VEVENT
END:VCALENDAR