BEGIN:VCALENDAR
VERSION:2.0
PRODID:-//Oxford Bible Fellowship - ECPv6.15.20//NONSGML v1.0//EN
CALSCALE:GREGORIAN
METHOD:PUBLISH
X-WR-CALNAME:Oxford Bible Fellowship
X-ORIGINAL-URL:https://staging.obf.org
X-WR-CALDESC:Events for Oxford Bible Fellowship
REFRESH-INTERVAL;VALUE=DURATION:PT1H
X-Robots-Tag:noindex
X-PUBLISHED-TTL:PT1H
BEGIN:VTIMEZONE
TZID:America/New_York
BEGIN:DAYLIGHT
TZOFFSETFROM:-0500
TZOFFSETTO:-0400
TZNAME:EDT
DTSTART:20220313T070000
END:DAYLIGHT
BEGIN:STANDARD
TZOFFSETFROM:-0400
TZOFFSETTO:-0500
TZNAME:EST
DTSTART:20221106T060000
END:STANDARD
BEGIN:DAYLIGHT
TZOFFSETFROM:-0500
TZOFFSETTO:-0400
TZNAME:EDT
DTSTART:20230312T070000
END:DAYLIGHT
BEGIN:STANDARD
TZOFFSETFROM:-0400
TZOFFSETTO:-0500
TZNAME:EST
DTSTART:20231105T060000
END:STANDARD
BEGIN:DAYLIGHT
TZOFFSETFROM:-0500
TZOFFSETTO:-0400
TZNAME:EDT
DTSTART:20240310T070000
END:DAYLIGHT
BEGIN:STANDARD
TZOFFSETFROM:-0400
TZOFFSETTO:-0500
TZNAME:EST
DTSTART:20241103T060000
END:STANDARD
BEGIN:DAYLIGHT
TZOFFSETFROM:-0500
TZOFFSETTO:-0400
TZNAME:EDT
DTSTART:20250309T070000
END:DAYLIGHT
BEGIN:STANDARD
TZOFFSETFROM:-0400
TZOFFSETTO:-0500
TZNAME:EST
DTSTART:20251102T060000
END:STANDARD
END:VTIMEZONE
BEGIN:VEVENT
DTSTART;TZID=America/New_York:20240211T090000
DTEND;TZID=America/New_York:20240211T113000
DTSTAMP:20260425T115614
CREATED:20240210T144303Z
LAST-MODIFIED:20240210T144303Z
UID:2028-1707642000-1707651000@staging.obf.org
SUMMARY:John 8:31-59
DESCRIPTION:This Sunday we will be looking at these famous words of Jesus as he continues teaching in the temple. Our passage is John 8:31-59 and we encourage you to read ahead in preparation for Sunday. Discussion questions for this week’s passage can be found here.
URL:https://staging.obf.org/event/john-831-59/
ATTACH;FMTTYPE=image/png:https://staging.obf.org/wp-content/uploads/2023/09/unnamed-23.png
END:VEVENT
BEGIN:VEVENT
DTSTART;VALUE=DATE:20240210
DTEND;VALUE=DATE:20240211
DTSTAMP:20260425T115614
CREATED:20240106T201229Z
LAST-MODIFIED:20240106T201229Z
UID:1914-1707523200-1707609599@staging.obf.org
SUMMARY:February 10: Registration Deadline for Women's Conference
DESCRIPTION:The Gospel Coalition will be hosting its Women’s Conference\, Behold and Believe\, in Indianapolis from June 20-22nd! This will be a special time for worship\, discipleship\, and training from keynote speakers like Jen Wilkin\, Ruth Chou Simons\, and David Platt. In the keynote sessions\, attendees will study passages from the gospel of John\, dovetailing with our church’s current sermon series! Click here for a video encapsulating the themes of Behold and Believe and for more information. \nRegister here with discount code OBF20 for $20 off. Food and housing will be an additional cost. We are thankful to Barb Schrag for arranging the carpooling and housing details! Please email Barb at barbschrag@gmail.com by February 10th so she has time to book hotel rooms.
URL:https://staging.obf.org/event/february-10-registration-deadline-for-womens-conference/
ATTACH;FMTTYPE=image/png:https://staging.obf.org/wp-content/uploads/2024/01/Womens-Blitz-Order-of-Events-Presentation.png
END:VEVENT
BEGIN:VEVENT
DTSTART;TZID=America/New_York:20240128T170000
DTEND;TZID=America/New_York:20240128T190000
DTSTAMP:20260425T115614
CREATED:20231230T165404Z
LAST-MODIFIED:20240110T195919Z
UID:1891-1706461200-1706468400@staging.obf.org
SUMMARY:January 28: Annual Meeting + Chili Cook-off
DESCRIPTION:Let’s get ready to celebrate what God has done at Oxford Bible Fellowship this past year and look forward with great expectation for what He will do this year! Here are a few ways you can prepare for this year’s Annual Meeting: \n1. Click here to access the 2024 proposed budget. Physical copies are also available for pick up at the Next Steps area. Please note that our final year-end 2023 Financial Report will be available next week.  \n2. Come to the Budget Meeting on January 21 at 12:00 PM: We will meet in the sanctuary after the second service. During this time\, questions surrounding the 2024 proposed budget will be covered. You can also email any questions to the elders at elders@obf.org. \n3. Join the Annual Meeting on January 28 at 5:00 PM: We would love to have every member and regular attendee come to the annual meeting! We will be voting on the proposed budget and elder nominations. The elder bios are available in the Next Steps area. If you are unable to join us in person\, the meeting will be live-streamed.  \n\n4. Grab a Proxy Form: Any member who is unable to attend the Annual Meeting in person on January 28th should pick up a proxy form at the Next Steps area in the lobby or stop by the church office during business hours to pick one up.  \n5. Sign up for the Chili Cook-Off: Sign up here to compete in the chili competition or sign up in the Next Steps area to bring something to contribute to the dinner! We will also email about the needed food items.
URL:https://staging.obf.org/event/january-28-annual-meeting-chili-cook-off/
ATTACH;FMTTYPE=image/png:https://staging.obf.org/wp-content/uploads/2023/12/Red-and-Yellow-Illustrative-Vegetable-Cook-Book-Cover-Presentation-4.png
END:VEVENT
BEGIN:VEVENT
DTSTART;TZID=America/New_York:20240128T090000
DTEND;TZID=America/New_York:20240128T113000
DTSTAMP:20260425T115614
CREATED:20240127T160129Z
LAST-MODIFIED:20240127T160129Z
UID:1958-1706432400-1706441400@staging.obf.org
SUMMARY:John 7:53-8:11
DESCRIPTION:This Sunday we return to two worship gatherings at 9:00AM and 10:30AM. We will continue our sermon series in John 7:53-8:11. There is much dispute over this “passage” and as such\, we will examine it the same way we do every text: with careful study and plain explanation. As we encourage you to do each week\, make sure to take a few minutes and read through our passage before Sunday! You may access this week’s discussion questions here.
URL:https://staging.obf.org/event/john-753-811/
ATTACH;FMTTYPE=image/png:https://staging.obf.org/wp-content/uploads/2023/09/unnamed-23.png
END:VEVENT
BEGIN:VEVENT
DTSTART;TZID=America/New_York:20240121T113000
DTEND;TZID=America/New_York:20240121T123000
DTSTAMP:20260425T115614
CREATED:20231230T165312Z
LAST-MODIFIED:20231230T165312Z
UID:1888-1705836600-1705840200@staging.obf.org
SUMMARY:January 21: Budget Meeting
DESCRIPTION:Members\, please mark your calendars for a budget meeting after second service on Sunday\, January 21. This will be a time for questions regarding the proposed 2024 budget.
URL:https://staging.obf.org/event/january-21-budget-meeting/
ATTACH;FMTTYPE=image/png:https://staging.obf.org/wp-content/uploads/2023/12/unnamed-3.png
END:VEVENT
BEGIN:VEVENT
DTSTART;TZID=America/New_York:20240109T183000
DTEND;TZID=America/New_York:20240109T193000
DTSTAMP:20260425T115614
CREATED:20240106T201106Z
LAST-MODIFIED:20240106T201106Z
UID:1911-1704825000-1704828600@staging.obf.org
SUMMARY:Weekly Prayer Meeting- Tuesday 6:30-7:30PM
DESCRIPTION:Let us begin this new year submitting ourselves and this church to the Lord in prayer! As we’re encouraged in Philippians 4:6-7\, “Do not be anxious about anything\, but in everything by prayer and supplication with thanksgiving let [our] requests be made known to God. And the peace of God\, which surpasses all understanding\, will guard [our] hearts and [our] minds in Christ Jesus” (ESV).
URL:https://staging.obf.org/event/weekly-prayer-meeting-tuesday-630-730pm/
ATTACH;FMTTYPE=image/png:https://staging.obf.org/wp-content/uploads/2024/01/unnamed-41.png
END:VEVENT
BEGIN:VEVENT
DTSTART;TZID=America/New_York:20240107T103000
DTEND;TZID=America/New_York:20240107T113000
DTSTAMP:20260425T115614
CREATED:20240106T200917Z
LAST-MODIFIED:20240106T200917Z
UID:1909-1704623400-1704627000@staging.obf.org
SUMMARY:Sunday\, Jan 7- John 6:1-21
DESCRIPTION:This Sunday we will be resuming our series through the Gospel of John. Pastor Emanuel will be preaching from John 6:1-21 as we look at the miracle of Jesus feeding the five thousand. We encourage you to read ahead in preparation for this Sunday. Discussion questions for this week’s passage can be found here.
URL:https://staging.obf.org/event/sunday-jan-7-john-61-21/
ATTACH;FMTTYPE=image/png:https://staging.obf.org/wp-content/uploads/2023/09/unnamed-23.png
END:VEVENT
BEGIN:VEVENT
DTSTART;TZID=America/New_York:20231231T103000
DTEND;TZID=America/New_York:20231231T113000
DTSTAMP:20260425T115614
CREATED:20231230T165152Z
LAST-MODIFIED:20231230T165152Z
UID:1885-1704018600-1704022200@staging.obf.org
SUMMARY:Sunday\, Dec 31- Revelations 3:7-13
DESCRIPTION:Happy New Year! We praise God for His faithfulness and provision in 2023 and look forward to how God will lead and direct us in the year ahead. This Sunday\, Pastor Emanuel will be leading us through Revelation 3:7-13 as we look to become the kind of church that Christ calls us to be. We invite you and your family to join us this Sunday morning as we close out 2023 together as a church family. We will be resuming our preaching series in John after the new year. \nQuestions for reflection:\n1. If you could only use one word\, what word would describe your walk with Jesus in 2023?\n2. What steps or actions are needed for you to build on where you are today in your journey of faith?  \n  \nWe will have one family service at 10:30am this Sunday\, December 31st. There will be no Children’s Ministry and no Student Ministry. We invite all families to participate in the service\, together!
URL:https://staging.obf.org/event/sunday-dec-31-revelations-37-13/
ATTACH;FMTTYPE=image/png:https://staging.obf.org/wp-content/uploads/2023/12/unnamed-2.png
END:VEVENT
BEGIN:VEVENT
DTSTART;TZID=America/New_York:20231216T080000
DTEND;TZID=America/New_York:20231216T170000
DTSTAMP:20260425T115614
CREATED:20231224T223038Z
LAST-MODIFIED:20231217T162011Z
UID:1881-1702713600-1702746000@staging.obf.org
SUMMARY:December 24: Christmas Eve Service
DESCRIPTION:We are days away from our Christmas Eve service on December 24th\, from 5:30-6:30pm! Following the service\, there will be a cookie reception. This will be a special evening of anticipation and celebration as we gather as Christ’s body to remember His arrival. Please invite neighbors\, family\, and friends and participate with us on Christmas Eve!
URL:https://staging.obf.org/event/december-24-christmas-eve-service/
ATTACH;FMTTYPE=image/png:https://staging.obf.org/wp-content/uploads/2023/12/unnamed-40.png
END:VEVENT
BEGIN:VEVENT
DTSTART;TZID=America/New_York:20231216T080000
DTEND;TZID=America/New_York:20231216T170000
DTSTAMP:20260425T115614
CREATED:20231217T005450Z
LAST-MODIFIED:20231217T005450Z
UID:1878-1702713600-1702746000@staging.obf.org
SUMMARY:Sunday\, December 17
DESCRIPTION:Hello church family!\nThis Sunday we will be celebrating the third week of Advent and lighting the third candle which symbolizes joy. This has also been called the shepherd’s candle because of the declaration received by the angels–good tidings of great joy. \nOur passage this Sunday will be Luke 1:59-80 and Pastor Emanuel will be walking us through the birth of John and the hymn of Zechariah. This passage is traditionally called the “Benedictus Dominus Deus Israel” because of Zechariah’s opening expression—“Praise be to the Lord\, the God of Israel”. It is a song of benediction and praise for how God has worked to bring about the dawning of light in the coming birth of Christ. \n“Praise be to the Lord\, the God of Israel\, because he has come and has redeemed his people. He has raised up a horn of salvation for us in the house of his servant David (as he said through his holy prophets of long ago)\, salvation from our enemies and from the hand of all who hate us.” (ESV\, Luke 1:66-68) \nWe encourage you to read the passage ahead of time and join us in God’s Word corporately on Sunday!
URL:https://staging.obf.org/event/sunday-december-17/
ATTACH;FMTTYPE=image/png:https://staging.obf.org/wp-content/uploads/2023/11/unnamed-26.png
END:VEVENT
BEGIN:VEVENT
DTSTART;TZID=America/New_York:20231210T090000
DTEND;TZID=America/New_York:20231210T113000
DTSTAMP:20260425T115614
CREATED:20231208T211518Z
LAST-MODIFIED:20231208T211530Z
UID:1872-1702198800-1702207800@staging.obf.org
SUMMARY:Sunday 12/10 --Isaiah 9:1-7
DESCRIPTION:Last week\, as we began our advent series\, we examined the darkness that resides\, not only in our world\, but in each one of us. This week our Director of Student Ministries\, Justin Kailer\, will continue our advent series by looking at Isaiah 9:1-7. We will examine how\, at a particularly dark point in history for God’s chosen people\, God promised a glorious light to dispel the darkness and bring illumination to the world.
URL:https://staging.obf.org/event/sunday-12-10-isaiah-91-7/
ATTACH;FMTTYPE=image/png:https://staging.obf.org/wp-content/uploads/2023/11/unnamed-26.png
END:VEVENT
BEGIN:VEVENT
DTSTART;TZID=America/New_York:20231203T090000
DTEND;TZID=America/New_York:20231203T113000
DTSTAMP:20260425T115614
CREATED:20231130T211219Z
LAST-MODIFIED:20231130T211219Z
UID:1868-1701594000-1701603000@staging.obf.org
SUMMARY:Advent: December 3
DESCRIPTION:We are excited to enter the season of Advent with you beginning this Sunday! The word advent comes from the Latin word adventus meaning arrival. For the next four weeks we will study passages that foster our celebration of Christ’s first arrival\, when Light broke into darkness. And together we will look ahead to His triumphal arrival\, yet to come! \nThis Sunday we have the pleasure of hearing from our Pastoral Resident\, Taylor Scott as he preaches from Genesis 6:1-8. Consider reading the passage ahead of time to better follow along.
URL:https://staging.obf.org/event/advent-december-3/
ATTACH;FMTTYPE=image/png:https://staging.obf.org/wp-content/uploads/2023/11/unnamed-26.png
END:VEVENT
BEGIN:VEVENT
DTSTART;VALUE=DATE:20231203
DTEND;VALUE=DATE:20231204
DTSTAMP:20260425T115614
CREATED:20231105T010528Z
LAST-MODIFIED:20231105T010528Z
UID:1803-1701561600-1701647999@staging.obf.org
SUMMARY:Christmas Giving Tree
DESCRIPTION:November 5 & 12: Information Packets Available \nThe Christmas Gift Drive is Oxford Bible Fellowship’s ministry to help local children who are in need by partnering with Talawanda School District.  Our goal is to provide 100 children with Christmas gifts this year! \nWHY PARTICIPATE\nThis ministry gives us an opportunity to share Christ’s love by helping meet the physical\, emotional\, and spiritual needs of local children. \nHOW YOU CAN HELP  \n\nSelect a child’s information packet on November 5th or 12th and receive a gift tag.\nPurchase and wrap the child’s desired Christmas gift(s). Affix gift tag to the wrapped Christmas gift(s).\nReturn wrapped Christmas gift(s) to the church by December 3rd.\nIt is important that Christmas gifts are returned on time!\nIf you would like to help deliver the gifts\, please contact Ellen at eljo13@yahoo.com.
URL:https://staging.obf.org/event/christmas-giving-tree/
ATTACH;FMTTYPE=image/png:https://staging.obf.org/wp-content/uploads/2023/11/unnamed-31.png
END:VEVENT
BEGIN:VEVENT
DTSTART;TZID=America/New_York:20231201T180000
DTEND;TZID=America/New_York:20231201T203000
DTSTAMP:20260425T115614
CREATED:20231111T032114Z
LAST-MODIFIED:20231111T032114Z
UID:1855-1701453600-1701462600@staging.obf.org
SUMMARY:Woman's Christmas Blitz
DESCRIPTION:Ladies\, mark your calendar for Friday\, December 1st! We hope you will join us for the women’s ministry Christmas Blitz from 6-8:30PM. The gathering will be a festive time of food\, fun\, and frenzied activity as we deck the halls of the church! This is a great opportunity to kick off the Christmas season in fellowship over dinner and decorating. Invite a friend and get to know other women in our community. Please RSVP here by November 24th so that we have an accurate headcount for catering! Festive/ugly Christmas sweaters are highly encouraged! We can’t wait to see you there!
URL:https://staging.obf.org/event/womans-christmas-blitz/
ATTACH;FMTTYPE=image/png:https://staging.obf.org/wp-content/uploads/2023/11/unnamed-37.png
END:VEVENT
BEGIN:VEVENT
DTSTART;TZID=America/New_York:20231126T103000
DTEND;TZID=America/New_York:20231126T113000
DTSTAMP:20260425T115614
CREATED:20231111T031923Z
LAST-MODIFIED:20231111T031923Z
UID:1853-1700994600-1700998200@staging.obf.org
SUMMARY:November 26: Thanksgiving Family Service
DESCRIPTION:We will have one family service at 10:30am on Sunday\, November 26th. There will be no Children’s Ministry and no Student Ministry. We invite all families to participate in the service\, together!
URL:https://staging.obf.org/event/november-26-thanksgiving-family-service/
END:VEVENT
BEGIN:VEVENT
DTSTART;VALUE=DATE:20231126
DTEND;VALUE=DATE:20231127
DTSTAMP:20260425T115614
CREATED:20230923T144623Z
LAST-MODIFIED:20231019T204439Z
UID:1698-1700956800-1701043199@staging.obf.org
SUMMARY:Memorize John 1:1-14 With Us!
DESCRIPTION:During our John series\, we invite you to memorize the first 14 verses with us. This can be something fun to work on as a family\, small group\, or within your friend group. Consider using this process from the Navigators on how to memorize scripture.
URL:https://staging.obf.org/event/memorize-john-11-14-with-us/
ATTACH;FMTTYPE=image/png:https://staging.obf.org/wp-content/uploads/2023/09/unnamed-27.png
END:VEVENT
BEGIN:VEVENT
DTSTART;TZID=America/New_York:20231119T113000
DTEND;TZID=America/New_York:20231119T123000
DTSTAMP:20260425T115614
CREATED:20231105T010645Z
LAST-MODIFIED:20231111T031313Z
UID:1806-1700393400-1700397000@staging.obf.org
SUMMARY:Finance Meeting (Rescheduled)
DESCRIPTION:The Finance Committee will be hosting a 3rd-quarter finance meeting after second service on November 19th. This meeting will take place in the sanctuary.
URL:https://staging.obf.org/event/finance-meeting/
ATTACH;FMTTYPE=image/png:https://staging.obf.org/wp-content/uploads/2023/11/unnamed-35.png
END:VEVENT
BEGIN:VEVENT
DTSTART;TZID=America/New_York:20231119T090000
DTEND;TZID=America/New_York:20231119T113000
DTSTAMP:20260425T115614
CREATED:20231111T031805Z
LAST-MODIFIED:20231111T031805Z
UID:1851-1700384400-1700393400@staging.obf.org
SUMMARY:Baptism Sunday
DESCRIPTION:Are you interested in being baptized as a public profession of your faith in Christ? The next baptisms will take place on Sunday\, November 19th. If you would like to learn more about baptism and the opportunity to publicly declare your faith in Christ\, please complete this interest form. Pastor Emanuel will follow up with you based on your submission!
URL:https://staging.obf.org/event/baptism-sunday/
END:VEVENT
BEGIN:VEVENT
DTSTART;TZID=America/New_York:20231119T090000
DTEND;TZID=America/New_York:20231119T101500
DTSTAMP:20260425T115614
CREATED:20231105T011014Z
LAST-MODIFIED:20231105T011014Z
UID:1809-1700384400-1700388900@staging.obf.org
SUMMARY:Discipleship Jumpstart
DESCRIPTION:We all need others. We need others who will ask how we are doing\, concern themselves with our growth and maturity\, and offer love and grace in our brokenness. We also need others that we can come alongside to encourage\, strengthen\, and mentor towards a more mature relationship with Christ. \nIf you have considered inviting someone to invest in your own spiritual maturity but didn’t know how or what that could look like\, Discipleship Jumpstart is for you! If you have wanted to invest in the spiritual maturity of others but didn’t know how to get started\, Discipleship Jumpstart is for you! \nJoin us on November 19th from 9-10:15am\, for an interactive time that will help to jumpstart a culture of discipleship at OBF! Please register here.
URL:https://staging.obf.org/event/discipleship-jumpstart/
ATTACH;FMTTYPE=image/png:https://staging.obf.org/wp-content/uploads/2023/11/unnamed-34.png
END:VEVENT
BEGIN:VEVENT
DTSTART;TZID=America/New_York:20231112T193000
DTEND;TZID=America/New_York:20231112T210000
DTSTAMP:20260425T115614
CREATED:20231111T031622Z
LAST-MODIFIED:20231111T031622Z
UID:1848-1699817400-1699822800@staging.obf.org
SUMMARY:College Group
DESCRIPTION:College Group will gather this Sunday night at 7:30! It will be at 6314 Fairfield Road\, Oxford. We hope to see you there!
URL:https://staging.obf.org/event/college-group/
ATTACH;FMTTYPE=image/png:https://staging.obf.org/wp-content/uploads/2023/11/unnamed-36.png
END:VEVENT
BEGIN:VEVENT
DTSTART;TZID=America/New_York:20231112T090000
DTEND;TZID=America/New_York:20231112T113000
DTSTAMP:20260425T115614
CREATED:20231111T031143Z
LAST-MODIFIED:20231111T031143Z
UID:1843-1699779600-1699788600@staging.obf.org
SUMMARY:John 5:1-18
DESCRIPTION:This Sunday we will have the joy of hearing another one of our elders continue our preaching series in John. Bob Mack will be preaching from John 5:1-18. We encourage you to read ahead in preparation for Sunday.
URL:https://staging.obf.org/event/john-51-18/
ATTACH;FMTTYPE=image/png:https://staging.obf.org/wp-content/uploads/2023/09/unnamed-23.png
END:VEVENT
BEGIN:VEVENT
DTSTART;VALUE=DATE:20231112
DTEND;VALUE=DATE:20231113
DTSTAMP:20260425T115614
CREATED:20231019T204209Z
LAST-MODIFIED:20231019T204209Z
UID:1771-1699747200-1699833599@staging.obf.org
SUMMARY:Elder Nominations
DESCRIPTION:The Elder Team is seeking nominations from the congregation for new Elders.  Anyone who is a regular church attender may make a nomination. This letter describes the commitment and requirements for Elders as listed in the Bylaws\, where to provide your recommendations and the timeframe for the process leading up to voting at the Church Annual Meeting in January 2024. \nYou may contact any Elder with questions or to submit a nomination at elders@obf.org. Thank you for your prayerful consideration as we seek God’s will to encourage\, shepherd and lead Oxford Bible Fellowship!
URL:https://staging.obf.org/event/elder-nominations/
ATTACH;FMTTYPE=image/png:https://staging.obf.org/wp-content/uploads/2023/10/unnamed-30.png
END:VEVENT
BEGIN:VEVENT
DTSTART;TZID=America/New_York:20231105T090000
DTEND;TZID=America/New_York:20231105T113000
DTSTAMP:20260425T115614
CREATED:20231105T010259Z
LAST-MODIFIED:20231105T010259Z
UID:1801-1699174800-1699183800@staging.obf.org
SUMMARY:John 4
DESCRIPTION:Please join us Sunday as we continue our series in the gospel of John! Elder Sam Perry will share from John chapter 4 how the famous story of Jesus and the woman at the well is relevant to our lives today. Culture\, religion\, race\, gender…Jesus cut through it all to share with a lonely woman about eternal life. We encourage you to read chapter 4 ahead of time and ask God to reveal his truth to you today. You can also ponder these questions as we approach Sunday’s exposition of the passage!
URL:https://staging.obf.org/event/john-4/
ATTACH;FMTTYPE=image/png:https://staging.obf.org/wp-content/uploads/2023/09/unnamed-23.png
END:VEVENT
BEGIN:VEVENT
DTSTART;TZID=America/New_York:20231029T180000
DTEND;TZID=America/New_York:20231029T190000
DTSTAMP:20260425T115614
CREATED:20231001T150302Z
LAST-MODIFIED:20231028T010023Z
UID:1738-1698602400-1698606000@staging.obf.org
SUMMARY:Trunk or Treat
DESCRIPTION:Trunk or Treat is this weekend on Sunday from 6-7PM. Sign up here to get involved or email Pati Greene directly at pfgreene@obf.org! \nAs we head towards Sunday\, let’s remember Jesus’ encouragement:\n“You are the light of the world. A city set on a hill cannot be hidden. Nor do people light a lamp and put it under a basket\, but on a stand\, and it gives light to all in the house. In the same way\, let your light shine before others\, so that they may see your good works and give glory to your Father who is in heaven.\nMatthew 5:14-16\, ESV \nLet’s shine the Light together…. And PRAY\, PRAY\, PRAY for the salvation our neighbors\, friends and families! Pray for God’s power to illuminate the hearts and minds of our loved ones…so they may join us in the Kingdom of Light!
URL:https://staging.obf.org/event/trunk-or-treat/
ATTACH;FMTTYPE=image/png:https://staging.obf.org/wp-content/uploads/2023/10/unnamed-24.png
END:VEVENT
BEGIN:VEVENT
DTSTART;TZID=America/New_York:20231023T170000
DTEND;TZID=America/New_York:20231023T190000
DTSTAMP:20260425T115614
CREATED:20230923T144747Z
LAST-MODIFIED:20231001T150154Z
UID:1701-1698080400-1698087600@staging.obf.org
SUMMARY:OASH Community Planning Meetings
DESCRIPTION:October 23 and November 27: OASH Community Planning Meetings\nEllen Hernandez and the OBF Local Missions Team invite you to attend the upcoming meetings by the Oxford Area Solution for Housing (OASH)! OASH is a group of individuals from the community working together to respond to and prevent further homelessness in Oxford. \nThe upcoming meetings are from 5-7PM and are held at the Oxford Presbyterian Seminary Building\, 104 E. Church Street. Pizza will be provided at the meeting. Consider bringing a drink and a donation to help cover food costs. It is helpful\, but not necessary\, for you to RSVP by emailing office@oxfordpresbychurch.org. Consider joining in developing a coordinated action plan for our community!
URL:https://staging.obf.org/event/oash-community-planning-meetings/
ATTACH;FMTTYPE=image/png:https://staging.obf.org/wp-content/uploads/2023/09/unnamed-28.png
END:VEVENT
BEGIN:VEVENT
DTSTART;TZID=America/New_York:20231029T090000
DTEND;TZID=America/New_York:20231029T090000
DTSTAMP:20260425T115614
CREATED:20231029T203647Z
LAST-MODIFIED:20231028T010142Z
UID:1765-1698570000-1698570000@staging.obf.org
SUMMARY:Sunday\, October 29
DESCRIPTION:This Sunday we will be resuming our study through the Gospel of John. Our passage of study will be John 3:22-36. We encourage you to read ahead and download the passage study guide. \n 
URL:https://staging.obf.org/event/sunday-october-29/
ATTACH;FMTTYPE=image/png:https://staging.obf.org/wp-content/uploads/2023/09/unnamed-23.png
END:VEVENT
END:VCALENDAR