BEGIN:VCALENDAR
VERSION:2.0
PRODID:-//Oxford Bible Fellowship - ECPv6.15.20//NONSGML v1.0//EN
CALSCALE:GREGORIAN
METHOD:PUBLISH
X-WR-CALNAME:Oxford Bible Fellowship
X-ORIGINAL-URL:https://staging.obf.org
X-WR-CALDESC:Events for Oxford Bible Fellowship
REFRESH-INTERVAL;VALUE=DURATION:PT1H
X-Robots-Tag:noindex
X-PUBLISHED-TTL:PT1H
BEGIN:VTIMEZONE
TZID:America/New_York
BEGIN:DAYLIGHT
TZOFFSETFROM:-0500
TZOFFSETTO:-0400
TZNAME:EDT
DTSTART:20240310T070000
END:DAYLIGHT
BEGIN:STANDARD
TZOFFSETFROM:-0400
TZOFFSETTO:-0500
TZNAME:EST
DTSTART:20241103T060000
END:STANDARD
BEGIN:DAYLIGHT
TZOFFSETFROM:-0500
TZOFFSETTO:-0400
TZNAME:EDT
DTSTART:20250309T070000
END:DAYLIGHT
BEGIN:STANDARD
TZOFFSETFROM:-0400
TZOFFSETTO:-0500
TZNAME:EST
DTSTART:20251102T060000
END:STANDARD
BEGIN:DAYLIGHT
TZOFFSETFROM:-0500
TZOFFSETTO:-0400
TZNAME:EDT
DTSTART:20260308T070000
END:DAYLIGHT
BEGIN:STANDARD
TZOFFSETFROM:-0400
TZOFFSETTO:-0500
TZNAME:EST
DTSTART:20261101T060000
END:STANDARD
END:VTIMEZONE
BEGIN:VEVENT
DTSTART;TZID=America/New_York:20251019T120000
DTEND;TZID=America/New_York:20251019T130000
DTSTAMP:20260424T081002
CREATED:20250921T215753Z
LAST-MODIFIED:20250921T215753Z
UID:3324-1760875200-1760878800@staging.obf.org
SUMMARY:Congregational Meeting and Vote
DESCRIPTION:Please join the Congregational Meeting on October 19th at noon\, after second service. We would love to have every church member come and vote! We will be voting on our candidate for the Associate Pastor position\, Justin Kailer. Many of you have likely met Justin\, as he and his family have served at OBF for many years. For those who would like to know more\, his bio is provided here.
URL:https://staging.obf.org/event/congregational-meeting-and-vote/
ATTACH;FMTTYPE=image/png:https://staging.obf.org/wp-content/uploads/2025/09/unnamed-24.png
END:VEVENT
BEGIN:VEVENT
DTSTART;VALUE=DATE:20251011
DTEND;VALUE=DATE:20251012
DTSTAMP:20260424T081002
CREATED:20250921T215448Z
LAST-MODIFIED:20250921T215448Z
UID:3318-1760140800-1760227199@staging.obf.org
SUMMARY:Women's Fall Bible Studies
DESCRIPTION:We are looking forward to gathering again to study God’s Word in the fall season! We will be studying Titus for 9 weeks. The study is expected to run from the week of September 28th – November 30th with a break for Thanksgiving. There will be several study times available and childcare offered at the Wednesday morning study. Find study times and registration here! \nYour book will be available at the first Bible study gathering. If you have any questions\, please contact the women’s ministry at women@obf.org.
URL:https://staging.obf.org/event/womens-fall-bible-studies/
ATTACH;FMTTYPE=image/png:https://staging.obf.org/wp-content/uploads/2025/09/unnamed-22.png
END:VEVENT
BEGIN:VEVENT
DTSTART;VALUE=DATE:20251005
DTEND;VALUE=DATE:20251006
DTSTAMP:20260424T081002
CREATED:20250921T215547Z
LAST-MODIFIED:20250921T215547Z
UID:3322-1759622400-1759708799@staging.obf.org
SUMMARY:Meet & Greet
DESCRIPTION:Please join us for a special “Meet and Greet” between services and after second service with our Associate Pastor candidate\, Justin Kailer\, and our Director of Student Ministries candidate\, Dan Wagner. This is an opportunity to meet both men and their wives and to ask any questions you may have in a casual\, welcoming environment.
URL:https://staging.obf.org/event/meet-greet/
ATTACH;FMTTYPE=image/png:https://staging.obf.org/wp-content/uploads/2025/09/unnamed-23.png
END:VEVENT
BEGIN:VEVENT
DTSTART;TZID=America/New_York:20251003T180000
DTEND;TZID=America/New_York:20251003T200000
DTSTAMP:20260424T081002
CREATED:20251003T192334Z
LAST-MODIFIED:20251003T192334Z
UID:3362-1759514400-1759521600@staging.obf.org
SUMMARY:Women's Potluck & Pickleball
DESCRIPTION:Come join us for a fun evening of pickleball and fellowship! Whether you’re a seasoned player or a curious beginner\, this is a great chance to connect with other women from our church while getting some exercise. We’ll be playing at the Tri Courts\, 6025 Fairfield Road\, tomorrow\, October 3rd from 6-8pm! To make our evening even sweeter\, please bring a snack or dish to share. We can’t wait to see you on the court! To RSVP\, please email Sarah Watt at sarahjwatt40@gmail.com.
URL:https://staging.obf.org/event/womens-potluck-pickleball/
ATTACH;FMTTYPE=image/png:https://staging.obf.org/wp-content/uploads/2025/10/unnamed-25.png
END:VEVENT
BEGIN:VEVENT
DTSTART;TZID=America/New_York:20251001T163000
DTEND;TZID=America/New_York:20251001T173000
DTSTAMP:20260424T081002
CREATED:20250921T215927Z
LAST-MODIFIED:20250923T144332Z
UID:3327-1759336200-1759339800@staging.obf.org
SUMMARY:Unfolding the Scriptures
DESCRIPTION:A 2 semester journey through the Bible’s unified story. This course is for college students interested in studying the redemptive story that arcs across the entire Bible narrative.
URL:https://staging.obf.org/event/unfolding-the-scriptures/
ATTACH;FMTTYPE=image/png:https://staging.obf.org/wp-content/uploads/2025/09/Unfolding-the-Scriptures.png
END:VEVENT
BEGIN:VEVENT
DTSTART;TZID=America/New_York:20250929T190000
DTEND;TZID=America/New_York:20250929T203000
DTSTAMP:20260424T081002
CREATED:20250914T024412Z
LAST-MODIFIED:20250914T024412Z
UID:3311-1759172400-1759177800@staging.obf.org
SUMMARY:Night of Worship
DESCRIPTION:On September 29th at 7pm\, join us for a special evening of worship through music\, scripture reading\, and prayer! This night will be a chance to come together\, turn towards God in priase and petition\, and be reoriented to truth.
URL:https://staging.obf.org/event/night-of-worship/
ATTACH;FMTTYPE=image/png:https://staging.obf.org/wp-content/uploads/2025/09/IMG_0820.png
END:VEVENT
BEGIN:VEVENT
DTSTART;TZID=America/New_York:20250928T090000
DTEND;TZID=America/New_York:20250928T113000
DTSTAMP:20260424T081002
CREATED:20250907T005114Z
LAST-MODIFIED:20250907T005114Z
UID:3307-1759050000-1759059000@staging.obf.org
SUMMARY:Baptism Sunday
DESCRIPTION:Are you interested in being baptized as a public profession of your faith in Christ? The next baptisms will take place on Sunday\, September 28th. If you would like to learn more about baptism and the opportunity to publicly declare your faith in Christ\, please complete this interest form. A staff member will follow up with you to schedule an interview.
URL:https://staging.obf.org/event/baptism-sunday-5/
ATTACH;FMTTYPE=image/png:https://staging.obf.org/wp-content/uploads/2025/09/unnamed-21.png
END:VEVENT
BEGIN:VEVENT
DTSTART;TZID=America/New_York:20250914T193000
DTEND;TZID=America/New_York:20250928T210000
DTSTAMP:20260424T081002
CREATED:20250914T024600Z
LAST-MODIFIED:20250914T024600Z
UID:3315-1757878200-1759093200@staging.obf.org
SUMMARY:College Group
DESCRIPTION:
URL:https://staging.obf.org/event/college-group-2/
ATTACH;FMTTYPE=image/png:https://staging.obf.org/wp-content/uploads/2025/09/IMG_0821.png
END:VEVENT
BEGIN:VEVENT
DTSTART;TZID=America/New_York:20250912T180000
DTEND;TZID=America/New_York:20250912T200000
DTSTAMP:20260424T081002
CREATED:20250907T004952Z
LAST-MODIFIED:20250907T004952Z
UID:3304-1757700000-1757707200@staging.obf.org
SUMMARY:Men's Cookout and Pickleball
DESCRIPTION:Calling men of all ages\, join us Friday\, September 12th from 6:00-8:00p.m. at the Tri Pavilion at 6025 Fairfield Road. We will kick off the fall semester with fellowship around pickleball\, cornhole\, and barbeque! Bring a friend. Burgers\, dogs and drinks provided. Bring a side or dessert to share. RSVP to men@obf.org.
URL:https://staging.obf.org/event/mens-cookout-and-pickleball/
ATTACH;FMTTYPE=image/png:https://staging.obf.org/wp-content/uploads/2025/09/unnamed-20.png
END:VEVENT
BEGIN:VEVENT
DTSTART;TZID=America/New_York:20250907T090000
DTEND;TZID=America/New_York:20250907T100000
DTSTAMP:20260424T081002
CREATED:20250821T183451Z
LAST-MODIFIED:20250821T183451Z
UID:3275-1757235600-1757239200@staging.obf.org
SUMMARY:Membership Class
DESCRIPTION:We will be having a membership class Sunday\, September 7th during the first service at 9am. Light breakfast items will be provided during the class hour. As a reminder\, this membership class is not only for those who are interested in becoming members. It is also a great “first step” in getting to know more about Oxford Bible Fellowship! You will hear from several elders about our history\, our leadership\, our doctrinal statement\, and other things that make us distinct from other churches in the Oxford area. Please register to attend here.
URL:https://staging.obf.org/event/membership-class-5/
ATTACH;FMTTYPE=image/png:https://staging.obf.org/wp-content/uploads/2025/08/unnamed-19.png
END:VEVENT
BEGIN:VEVENT
DTSTART;TZID=America/New_York:20250824T113000
DTEND;TZID=America/New_York:20250824T130000
DTSTAMP:20260424T081002
CREATED:20250516T184120Z
LAST-MODIFIED:20250810T023304Z
UID:3001-1756035000-1756040400@staging.obf.org
SUMMARY:Welcome Back Picnic
DESCRIPTION:We are excited to welcome back Miami students during our annual after-service picnic\, a perfect opportunity to meet new people and catch up with old friends. Bring your favorite dish to share or consider cooking up pulled pork. More information and a signup will be available in next week’s e-news. We can’t wait to see you after second service on August 24th for an afternoon of good food\, great company\, and community!
URL:https://staging.obf.org/event/churchwide-bring-your-own-lunch-picnic/
ATTACH;FMTTYPE=image/png:https://staging.obf.org/wp-content/uploads/2025/05/unnamed-18.png
END:VEVENT
BEGIN:VEVENT
DTSTART;VALUE=DATE:20250824
DTEND;VALUE=DATE:20250825
DTSTAMP:20260424T081002
CREATED:20250727T010117Z
LAST-MODIFIED:20250727T010117Z
UID:3203-1755993600-1756079999@staging.obf.org
SUMMARY:Move-Up Sunday
DESCRIPTION:On August 24th\, we are excited to have children move up to their new grade level. 18-month olds can participate in the toddler classroom. And 3 years old can join the preschool classroom. Incoming 4th and 5th graders will meet downstairs in the Club 45 classroom. If you have specific questions\, please email pfgreene@obf.org.
URL:https://staging.obf.org/event/move-up-sunday-2/
ATTACH;FMTTYPE=image/png:https://staging.obf.org/wp-content/uploads/2025/07/unnamed-14.png
END:VEVENT
BEGIN:VEVENT
DTSTART;VALUE=DATE:20250810
DTEND;VALUE=DATE:20250811
DTSTAMP:20260424T081002
CREATED:20250727T010237Z
LAST-MODIFIED:20250727T010237Z
UID:3206-1754784000-1754870399@staging.obf.org
SUMMARY:Free Resources
DESCRIPTION:There will be free women’s Bible study books on the table in the foyer this Sunday. These are studies that we used previously and have extra blank copies to share! There will be Jen Wilkin studies and books studying Malachi\, Philippians\, and Jonah\, to name a few. Take a moment to check these out and bring some home!
URL:https://staging.obf.org/event/free-resources/
ATTACH;FMTTYPE=image/png:https://staging.obf.org/wp-content/uploads/2025/07/unnamed-15.png
END:VEVENT
BEGIN:VEVENT
DTSTART;TZID=America/New_York:20250706T103000
DTEND;TZID=America/New_York:20250706T113000
DTSTAMP:20260424T081002
CREATED:20250703T200231Z
LAST-MODIFIED:20250703T200231Z
UID:3187-1751797800-1751801400@staging.obf.org
SUMMARY:Children Ministry Resumes
DESCRIPTION:
URL:https://staging.obf.org/event/children-ministry-resumes/
ATTACH;FMTTYPE=image/png:https://staging.obf.org/wp-content/uploads/2025/07/unnamed-12.png
END:VEVENT
BEGIN:VEVENT
DTSTART;TZID=America/New_York:20250627T080000
DTEND;TZID=America/New_York:20250627T170000
DTSTAMP:20260424T081002
CREATED:20250628T021020Z
LAST-MODIFIED:20250628T021020Z
UID:3177-1751011200-1751043600@staging.obf.org
SUMMARY:July 1: Women's Summer Bible Studies Begin
DESCRIPTION:We are excited to continue gathering to study God’s Word this summer! We will be studying 1\, 2\, and 3 John for 7 weeks. The study is expected to run from approximately July 1st – August 12th. Please sign up here! Your book will be available at the first Bible study gathering. If you have any questions\, please contact the Women’s Ministry at women@obf.org.
URL:https://staging.obf.org/event/july-1-womens-summer-bible-studies-begin/
ATTACH;FMTTYPE=image/png:https://staging.obf.org/wp-content/uploads/2025/06/unnamed-11.png
END:VEVENT
BEGIN:VEVENT
DTSTART;TZID=America/New_York:20250627T080000
DTEND;TZID=America/New_York:20250627T170000
DTSTAMP:20260424T081002
CREATED:20250628T020656Z
LAST-MODIFIED:20250628T020656Z
UID:3174-1751011200-1751043600@staging.obf.org
SUMMARY:Sunday\, June 29
DESCRIPTION:Join us this Sunday as Chris Light\, the Young Life Area Director\, continues our study of Proverbs! He will take us through Proverbs 26:18-28 and examine how to apply wisdom in the area of our speech.\n\nThis week\, we are also excited to welcome our missionaries serving in Ukraine\, Cheryl and Charley Warner! You won’t want to miss the church picnic after service and the opportunity to talk with them more about what the Lord is doing in Ukraine.
URL:https://staging.obf.org/event/sunday-june-29/
ATTACH;FMTTYPE=image/png:https://staging.obf.org/wp-content/uploads/2025/05/unnamed-4.png
END:VEVENT
BEGIN:VEVENT
DTSTART;VALUE=DATE:20250622
DTEND;VALUE=DATE:20250625
DTSTAMP:20260424T081002
CREATED:20250426T011737Z
LAST-MODIFIED:20250610T014219Z
UID:2951-1750550400-1750809599@staging.obf.org
SUMMARY:Vacation Bible School
DESCRIPTION:Come join us June 22nd-24th from 6-8:15pm for our annual Vacation Bible School! Find out more about the program here. VBS will encourage kids to look closely at the details of God’s amazing world and magnify\, or proclaim\, the greatness of God. We can’t wait to discover the bigness of God in the smallest things together! VBS registration is open for children 5-11 years old. Register here today!
URL:https://staging.obf.org/event/vacation-bible-school-2/
ATTACH;FMTTYPE=image/png:https://staging.obf.org/wp-content/uploads/2025/04/VBS-2025-Save-the-date-5.png
END:VEVENT
BEGIN:VEVENT
DTSTART;TZID=America/New_York:20250621T083000
DTEND;TZID=America/New_York:20250621T120000
DTSTAMP:20260424T081002
CREATED:20250601T013358Z
LAST-MODIFIED:20250610T013542Z
UID:3122-1750494600-1750507200@staging.obf.org
SUMMARY:Men and Kids Kayaking Trip
DESCRIPTION:Get ready for an incredible day on the water! On June 21st\, we’re hosting a kayaking adventure for men and kids\, ages 5 and up. This is a fantastic opportunity for fathers and other significant male figures to build lasting memories and strengthen relationships with the children in their lives. \nWe’ll meet at Oxford Bible Fellowship at 8:30am and caravan to Twin Creek in Germantown\, OH for a fun-filled morning of kayaking. The trip will conclude around lunchtime. The cost is just $40 per person\, payable in cash on the 21st. Register here!
URL:https://staging.obf.org/event/men-and-kids-kayaking-trip/
ATTACH;FMTTYPE=image/png:https://staging.obf.org/wp-content/uploads/2025/05/unnamed-9.png
END:VEVENT
BEGIN:VEVENT
DTSTART;TZID=America/New_York:20250606T190000
DTEND;TZID=America/New_York:20250606T210000
DTSTAMP:20260424T081002
CREATED:20250516T184300Z
LAST-MODIFIED:20250516T184300Z
UID:3004-1749236400-1749243600@staging.obf.org
SUMMARY:June 6: A Women's Fellowship Event
DESCRIPTION:Come join us June 6th from 7-9pm for heartfelt connection and inspiring fellowship! This women’s gathering will offer space to share the unique ways God has been teaching us recently. We will also have the opportunity to encourage one another through personal testimonies\, shared wisdom\, and the joy of understanding God’s truth together. Light refreshments and desserts will be provided. Please register here!
URL:https://staging.obf.org/event/june-6-a-womens-fellowship-event/
ATTACH;FMTTYPE=image/png:https://staging.obf.org/wp-content/uploads/2025/05/unnamed-7.png
END:VEVENT
BEGIN:VEVENT
DTSTART;VALUE=DATE:20250602
DTEND;VALUE=DATE:20250606
DTSTAMP:20260424T081002
CREATED:20250601T013156Z
LAST-MODIFIED:20250601T013156Z
UID:3119-1748822400-1749167999@staging.obf.org
SUMMARY:Office Closed
DESCRIPTION:
URL:https://staging.obf.org/event/office-closed/
ATTACH;FMTTYPE=image/png:https://staging.obf.org/wp-content/uploads/2025/05/unnamed-8.png
END:VEVENT
BEGIN:VEVENT
DTSTART;TZID=America/New_York:20250601T103000
DTEND;TZID=America/New_York:20250601T113000
DTSTAMP:20260424T081002
CREATED:20250601T013050Z
LAST-MODIFIED:20250601T013050Z
UID:3117-1748773800-1748777400@staging.obf.org
SUMMARY:Sermon: June 1st
DESCRIPTION:This Sunday\, we will continue studying Proverbs as elder\, Jim Samland\, takes us through two difficult passages. We will consider whether Proverbs 22:26 is a promise or a general principle and if verses 4 and 5 of Proverbs 26 contradict each other. The aim is to know how to understand difficult passages and connect the fear of the Lord with understanding. And don’t forget to keep memorizing Proverbs 1:7!
URL:https://staging.obf.org/event/sermon-june-1st/
ATTACH;FMTTYPE=image/png:https://staging.obf.org/wp-content/uploads/2025/05/unnamed-4.png
END:VEVENT
BEGIN:VEVENT
DTSTART;VALUE=DATE:20250601
DTEND;VALUE=DATE:20250630
DTSTAMP:20260424T081002
CREATED:20250601T013649Z
LAST-MODIFIED:20250601T013649Z
UID:3126-1748736000-1751241599@staging.obf.org
SUMMARY:Children Join in Service For June
DESCRIPTION:
URL:https://staging.obf.org/event/children-join-in-service-for-june/
ATTACH;FMTTYPE=image/png:https://staging.obf.org/wp-content/uploads/2025/05/unnamed-10.png
END:VEVENT
BEGIN:VEVENT
DTSTART;VALUE=DATE:20250518
DTEND;VALUE=DATE:20250519
DTSTAMP:20260424T081002
CREATED:20250516T183940Z
LAST-MODIFIED:20250516T183940Z
UID:2998-1747526400-1747612799@staging.obf.org
SUMMARY:THIS SUNDAY: One-service Schedule Begins
DESCRIPTION:This Sunday\, on May 18th\, we will begin a one-service schedule for the summer. We hope you can join us at 10:30am! \n\nChildren’s Ministry will be offering classes in May\, July\, and August. Classes will be available for children in nursery through 3rd grade. In the hope of giving our Children’s Ministry volunteers rest\, there will be no classes offered in June.\nClub 45 and Student Ministry will not offer Sunday classes through the summer.
URL:https://staging.obf.org/event/this-sunday-one-service-schedule-begins/
ATTACH;FMTTYPE=image/png:https://staging.obf.org/wp-content/uploads/2025/05/unnamed-5.png
END:VEVENT
BEGIN:VEVENT
DTSTART;TZID=America/New_York:20250511T120000
DTEND;TZID=America/New_York:20250511T130000
DTSTAMP:20260424T081002
CREATED:20250426T011602Z
LAST-MODIFIED:20250426T011602Z
UID:2948-1746964800-1746968400@staging.obf.org
SUMMARY:Members Meeting & Vote
DESCRIPTION:Members\, please join us after second service on May 11th to vote on the candidacy of Justin Kailer as an elder. Proxy ballots are available in the Next Steps area\, if you are unable to attend this meeting.
URL:https://staging.obf.org/event/members-meeting-vote/
ATTACH;FMTTYPE=image/png:https://staging.obf.org/wp-content/uploads/2025/04/unnamed-2.png
END:VEVENT
BEGIN:VEVENT
DTSTART;TZID=America/New_York:20250504T090000
DTEND;TZID=America/New_York:20250504T113000
DTSTAMP:20260424T081002
CREATED:20250502T020503Z
LAST-MODIFIED:20250502T020503Z
UID:2955-1746349200-1746358200@staging.obf.org
SUMMARY:Sermon: May 4th
DESCRIPTION:Join us this Sunday as we celebrate the Lord’s Table together and begin our new sermon series through the book of Proverbs. Pastor Emanuel will be preaching through Proverbs 1:1-7 and as always\, we encourage you to read ahead in preparation for Sunday’s message. For those interested\, discussion questions for the passage are available here.
URL:https://staging.obf.org/event/sermon-may-4th/
ATTACH;FMTTYPE=image/png:https://staging.obf.org/wp-content/uploads/2025/05/unnamed-4.png
END:VEVENT
BEGIN:VEVENT
DTSTART;TZID=America/New_York:20250427T160000
DTEND;TZID=America/New_York:20250427T183000
DTSTAMP:20260424T081002
CREATED:20250426T011408Z
LAST-MODIFIED:20250426T011408Z
UID:2945-1745769600-1745778600@staging.obf.org
SUMMARY:Cross-cultural Friendship Celebration
DESCRIPTION:Get involved in this celebration as we enjoy God’s love for the nations and go cross-cultural! Consider inviting friends and neighbors from different cultures to experience our community and God’s love for them. Sign-up here to participate or to serve at the event! Please pray that our efforts become a small part of fulfilling these words in Isaiah: \n“And the foreigners who join themselves to the LORD\, to minister to him\, to love the name of the LORD\, and to be his servants…these I will bring to my holy mountain\, and make them joyful in my house of prayer…for my house shall be called a house of prayer for all peoples” (Isaiah 56:6-7\, ESV).
URL:https://staging.obf.org/event/cross-cultural-friendship-celebration/
ATTACH;FMTTYPE=image/jpeg:https://staging.obf.org/wp-content/uploads/2025/04/unnamed.jpg
END:VEVENT
BEGIN:VEVENT
DTSTART;TZID=America/New_York:20250420T103000
DTEND;TZID=America/New_York:20250420T120000
DTSTAMP:20260424T081002
CREATED:20250326T010040Z
LAST-MODIFIED:20250326T010040Z
UID:2917-1745145000-1745150400@staging.obf.org
SUMMARY:Easter Service
DESCRIPTION:Easter is coming next month! We hope you\, your family\, and your neighbors can join us at Armstrong Student Center for this year’s Easter service at 10:30 a.m.!
URL:https://staging.obf.org/event/easter-service/
ATTACH;FMTTYPE=image/png:https://staging.obf.org/wp-content/uploads/2025/03/unnamed-1.png
END:VEVENT
BEGIN:VEVENT
DTSTART;TZID=America/New_York:20250419T143000
DTEND;TZID=America/New_York:20250419T160000
DTSTAMP:20260424T081002
CREATED:20250413T014239Z
LAST-MODIFIED:20250413T014239Z
UID:2938-1745073000-1745078400@staging.obf.org
SUMMARY:Serving Opportunity
DESCRIPTION:We need help moving equipment and musical instruments to Armstrong on Saturday\, April 19th from 2:30pm – 4pm. We will also need help after the Easter service on Sunday to move equipment back to OBF. If neither of these opportunities work for you\, consider greeting on Easter Sunday to welcome and direct people. Please register to serve here!
URL:https://staging.obf.org/event/serving-opportunity/
ATTACH;FMTTYPE=image/png:https://staging.obf.org/wp-content/uploads/2025/04/Easter-Help-Needed.png
END:VEVENT
BEGIN:VEVENT
DTSTART;TZID=America/New_York:20250418T190000
DTEND;TZID=America/New_York:20250418T203000
DTSTAMP:20260424T081002
CREATED:20250413T014452Z
LAST-MODIFIED:20250413T014452Z
UID:2942-1745002800-1745008200@staging.obf.org
SUMMARY:Good Friday Service
DESCRIPTION:Join us this Friday to commemorate Christ’s death. This will be a family service. We invite you to participate with us at 7pm.
URL:https://staging.obf.org/event/good-friday-service/
ATTACH;FMTTYPE=image/png:https://staging.obf.org/wp-content/uploads/2025/04/unnamed-8.png
END:VEVENT
BEGIN:VEVENT
DTSTART;TZID=America/New_York:20250416T173000
DTEND;TZID=America/New_York:20250416T184500
DTSTAMP:20260424T081002
CREATED:20250413T013928Z
LAST-MODIFIED:20250413T014042Z
UID:2935-1744824600-1744829100@staging.obf.org
SUMMARY:Join Easter Choir!
DESCRIPTION:Our Easter Choir will sing a special and lead worship next Sunday morning\, April 20th during our service at Armstrong. Consider participating! No experience is necessary and no audition is required. This opportunity is open to anyone middle school and up! Please attend one of the following rehearsal times: \nTuesday\, April 15: 7:30-8:45 p.m. OR\nWednesday\, April 16: 5:30-6:45 p.m. \nYou must attend one weeknight rehearsal to participate on Sunday. We will also sound check and practice on Easter morning before the service. Please RSVP to make sure we have enough space and materials: Email Tim Cary directly (tcary@obf.org)\, fill out this form\, or sign up in the Next Steps area.
URL:https://staging.obf.org/event/join-easter-choir/
ATTACH;FMTTYPE=image/png:https://staging.obf.org/wp-content/uploads/2025/04/unnamed-7.png
END:VEVENT
END:VCALENDAR