BEGIN:VCALENDAR
VERSION:2.0
PRODID:-//Oxford Bible Fellowship - ECPv6.15.20//NONSGML v1.0//EN
CALSCALE:GREGORIAN
METHOD:PUBLISH
X-WR-CALNAME:Oxford Bible Fellowship
X-ORIGINAL-URL:https://staging.obf.org
X-WR-CALDESC:Events for Oxford Bible Fellowship
REFRESH-INTERVAL;VALUE=DURATION:PT1H
X-Robots-Tag:noindex
X-PUBLISHED-TTL:PT1H
BEGIN:VTIMEZONE
TZID:America/New_York
BEGIN:DAYLIGHT
TZOFFSETFROM:-0500
TZOFFSETTO:-0400
TZNAME:EDT
DTSTART:20230312T070000
END:DAYLIGHT
BEGIN:STANDARD
TZOFFSETFROM:-0400
TZOFFSETTO:-0500
TZNAME:EST
DTSTART:20231105T060000
END:STANDARD
BEGIN:DAYLIGHT
TZOFFSETFROM:-0500
TZOFFSETTO:-0400
TZNAME:EDT
DTSTART:20240310T070000
END:DAYLIGHT
BEGIN:STANDARD
TZOFFSETFROM:-0400
TZOFFSETTO:-0500
TZNAME:EST
DTSTART:20241103T060000
END:STANDARD
BEGIN:DAYLIGHT
TZOFFSETFROM:-0500
TZOFFSETTO:-0400
TZNAME:EDT
DTSTART:20250309T070000
END:DAYLIGHT
BEGIN:STANDARD
TZOFFSETFROM:-0400
TZOFFSETTO:-0500
TZNAME:EST
DTSTART:20251102T060000
END:STANDARD
BEGIN:DAYLIGHT
TZOFFSETFROM:-0500
TZOFFSETTO:-0400
TZNAME:EDT
DTSTART:20260308T070000
END:DAYLIGHT
BEGIN:STANDARD
TZOFFSETFROM:-0400
TZOFFSETTO:-0500
TZNAME:EST
DTSTART:20261101T060000
END:STANDARD
END:VTIMEZONE
BEGIN:VEVENT
DTSTART;TZID=America/New_York:20250427T160000
DTEND;TZID=America/New_York:20250427T183000
DTSTAMP:20260424T095132
CREATED:20250426T011408Z
LAST-MODIFIED:20250426T011408Z
UID:2945-1745769600-1745778600@staging.obf.org
SUMMARY:Cross-cultural Friendship Celebration
DESCRIPTION:Get involved in this celebration as we enjoy God’s love for the nations and go cross-cultural! Consider inviting friends and neighbors from different cultures to experience our community and God’s love for them. Sign-up here to participate or to serve at the event! Please pray that our efforts become a small part of fulfilling these words in Isaiah: \n“And the foreigners who join themselves to the LORD\, to minister to him\, to love the name of the LORD\, and to be his servants…these I will bring to my holy mountain\, and make them joyful in my house of prayer…for my house shall be called a house of prayer for all peoples” (Isaiah 56:6-7\, ESV).
URL:https://staging.obf.org/event/cross-cultural-friendship-celebration/
ATTACH;FMTTYPE=image/jpeg:https://staging.obf.org/wp-content/uploads/2025/04/unnamed.jpg
END:VEVENT
BEGIN:VEVENT
DTSTART;TZID=America/New_York:20250420T103000
DTEND;TZID=America/New_York:20250420T120000
DTSTAMP:20260424T095132
CREATED:20250326T010040Z
LAST-MODIFIED:20250326T010040Z
UID:2917-1745145000-1745150400@staging.obf.org
SUMMARY:Easter Service
DESCRIPTION:Easter is coming next month! We hope you\, your family\, and your neighbors can join us at Armstrong Student Center for this year’s Easter service at 10:30 a.m.!
URL:https://staging.obf.org/event/easter-service/
ATTACH;FMTTYPE=image/png:https://staging.obf.org/wp-content/uploads/2025/03/unnamed-1.png
END:VEVENT
BEGIN:VEVENT
DTSTART;TZID=America/New_York:20250419T143000
DTEND;TZID=America/New_York:20250419T160000
DTSTAMP:20260424T095132
CREATED:20250413T014239Z
LAST-MODIFIED:20250413T014239Z
UID:2938-1745073000-1745078400@staging.obf.org
SUMMARY:Serving Opportunity
DESCRIPTION:We need help moving equipment and musical instruments to Armstrong on Saturday\, April 19th from 2:30pm – 4pm. We will also need help after the Easter service on Sunday to move equipment back to OBF. If neither of these opportunities work for you\, consider greeting on Easter Sunday to welcome and direct people. Please register to serve here!
URL:https://staging.obf.org/event/serving-opportunity/
ATTACH;FMTTYPE=image/png:https://staging.obf.org/wp-content/uploads/2025/04/Easter-Help-Needed.png
END:VEVENT
BEGIN:VEVENT
DTSTART;TZID=America/New_York:20250418T190000
DTEND;TZID=America/New_York:20250418T203000
DTSTAMP:20260424T095132
CREATED:20250413T014452Z
LAST-MODIFIED:20250413T014452Z
UID:2942-1745002800-1745008200@staging.obf.org
SUMMARY:Good Friday Service
DESCRIPTION:Join us this Friday to commemorate Christ’s death. This will be a family service. We invite you to participate with us at 7pm.
URL:https://staging.obf.org/event/good-friday-service/
ATTACH;FMTTYPE=image/png:https://staging.obf.org/wp-content/uploads/2025/04/unnamed-8.png
END:VEVENT
BEGIN:VEVENT
DTSTART;TZID=America/New_York:20250416T173000
DTEND;TZID=America/New_York:20250416T184500
DTSTAMP:20260424T095132
CREATED:20250413T013928Z
LAST-MODIFIED:20250413T014042Z
UID:2935-1744824600-1744829100@staging.obf.org
SUMMARY:Join Easter Choir!
DESCRIPTION:Our Easter Choir will sing a special and lead worship next Sunday morning\, April 20th during our service at Armstrong. Consider participating! No experience is necessary and no audition is required. This opportunity is open to anyone middle school and up! Please attend one of the following rehearsal times: \nTuesday\, April 15: 7:30-8:45 p.m. OR\nWednesday\, April 16: 5:30-6:45 p.m. \nYou must attend one weeknight rehearsal to participate on Sunday. We will also sound check and practice on Easter morning before the service. Please RSVP to make sure we have enough space and materials: Email Tim Cary directly (tcary@obf.org)\, fill out this form\, or sign up in the Next Steps area.
URL:https://staging.obf.org/event/join-easter-choir/
ATTACH;FMTTYPE=image/png:https://staging.obf.org/wp-content/uploads/2025/04/unnamed-7.png
END:VEVENT
BEGIN:VEVENT
DTSTART;TZID=America/New_York:20250412T200000
DTEND;TZID=America/New_York:20250412T213000
DTSTAMP:20260424T095132
CREATED:20250313T183051Z
LAST-MODIFIED:20250313T183051Z
UID:2909-1744488000-1744493400@staging.obf.org
SUMMARY:Dr. Yamauchi Lecture
DESCRIPTION:On Saturday\, April 12th at 8:00 PM\, Distinguished Professor of Economics\, Kenneth Elzinga\, will be speaking on Christianity\, Capitalism\, and Socialism. This lecture will be held at Shideler Hall in Room 152. It is free and open to the public! He will be preaching at our church the following morning\, April 13th.
URL:https://staging.obf.org/event/dr-yamauchi-lecture/
ATTACH;FMTTYPE=image/png:https://staging.obf.org/wp-content/uploads/2025/03/unnamed-3.png
END:VEVENT
BEGIN:VEVENT
DTSTART;TZID=America/New_York:20250412T090000
DTEND;TZID=America/New_York:20250412T120000
DTSTAMP:20260424T095132
CREATED:20250405T183857Z
LAST-MODIFIED:20250405T184214Z
UID:2929-1744448400-1744459200@staging.obf.org
SUMMARY:Landscaping Work Day
DESCRIPTION:Join us for a landscaping work day on Saturday\, April 12th from 9am-noon to help maintain our grounds! We’ll be focusing on weeding\, planting\, and general upkeep\, creating a welcoming space for our community. Please wear comfortable clothes and shoes\, and bring your own gloves and tools if you have them. Please register here to let us know you’re coming!
URL:https://staging.obf.org/event/landscaping-work-day/
ATTACH;FMTTYPE=image/png:https://staging.obf.org/wp-content/uploads/2025/04/Landscaping-Work-Day-4.png
END:VEVENT
BEGIN:VEVENT
DTSTART;TZID=America/New_York:20250325T080000
DTEND;TZID=America/New_York:20250325T170000
DTSTAMP:20260424T095132
CREATED:20250325T144803Z
LAST-MODIFIED:20250325T144803Z
UID:2913-1742889600-1742922000@staging.obf.org
SUMMARY:Easter Choir
DESCRIPTION:Our Easter Choir will sing a special and lead worship on Sunday morning\, April 20th during our service at Armstrong. Consider participating! No experience is necessary and no audition is required. This opportunity is open to anyone middle school and up! Please attend one of the following rehearsal times: \nTuesday\, April 15: 7:30-8:45 p.m. OR\nWednesday\, April 16: 5:30-6:45 p.m. \nYou must attend one weeknight rehearsal to participate on Sunday. We will also sound check and practice on Easter morning before the service. Please RSVP to make sure we have enough space and materials: Email Tim Cary directly (tcary@obf.org)\, fill out this form\, or sign up in the Next Steps area.
URL:https://staging.obf.org/event/easter-choir/
ATTACH;FMTTYPE=image/png:https://staging.obf.org/wp-content/uploads/2025/03/Happy-Easter-Cute-Facebook-post-Presentation-2.png
END:VEVENT
BEGIN:VEVENT
DTSTART;TZID=America/New_York:20250321T180000
DTEND;TZID=America/New_York:20250321T210000
DTSTAMP:20260424T095132
CREATED:20250228T194107Z
LAST-MODIFIED:20250228T194107Z
UID:2868-1742580000-1742590800@staging.obf.org
SUMMARY:March Madness Watch Party
DESCRIPTION:
URL:https://staging.obf.org/event/march-madness-watch-party/
ATTACH;FMTTYPE=image/png:https://staging.obf.org/wp-content/uploads/2025/02/unnamed-2.png
END:VEVENT
BEGIN:VEVENT
DTSTART;TZID=America/New_York:20250302T114500
DTEND;TZID=America/New_York:20250302T130000
DTSTAMP:20260424T095132
CREATED:20250215T202240Z
LAST-MODIFIED:20250215T202413Z
UID:2814-1740915900-1740920400@staging.obf.org
SUMMARY:Membership Class
DESCRIPTION:March 2: Membership Class\nThe Membership Class is a great way to get to know more about Oxford Bible Fellowship and meet some of our church leaders. It is also the initial step in the membership process. Join us on Sunday\, March 2nd after second service for a light luncheon. Please register here!
URL:https://staging.obf.org/event/membership-class-4/
ATTACH;FMTTYPE=image/png:https://staging.obf.org/wp-content/uploads/2025/02/unnamed-3.png
END:VEVENT
BEGIN:VEVENT
DTSTART;TZID=America/New_York:20250302T090000
DTEND;TZID=America/New_York:20250302T113000
DTSTAMP:20260424T095132
CREATED:20250221T015922Z
LAST-MODIFIED:20250228T194006Z
UID:2823-1740906000-1740915000@staging.obf.org
SUMMARY:Sunday Sermon: Micah 4:9-5:1
DESCRIPTION:This Sunday Pastor Emanuel will be preaching on part two of Micah 4. The sermon passage this week will be Micah 4:9-5:1. We encourage you to read ahead in preparation for Sunday morning. Discussion questions for Micah 4 can be found here.
URL:https://staging.obf.org/event/sunday-sermon-micah-41-8/
ATTACH;FMTTYPE=image/png:https://staging.obf.org/wp-content/uploads/2025/01/unnamed-26.png
END:VEVENT
BEGIN:VEVENT
DTSTART;TZID=America/New_York:20250223T100000
DTEND;TZID=America/New_York:20250223T120000
DTSTAMP:20260424T095132
CREATED:20250221T015756Z
LAST-MODIFIED:20250221T015756Z
UID:2818-1740304800-1740312000@staging.obf.org
SUMMARY:Fathers' 3-10 Initiative Follow-up
DESCRIPTION:Following both services this Sunday\, February 23rd\, participants of the Fathers’ 3-10 Initiative are invited to a brief meeting in the loft. This will give us an opportunity to hear from each other about what God is doing and answer any questions you may have. If you have not picked up your materials yet\, please come up and get them then!
URL:https://staging.obf.org/event/fathers-3-10-initiative-follow-up/
ATTACH;FMTTYPE=image/png:https://staging.obf.org/wp-content/uploads/2025/02/unnamed-34.png
END:VEVENT
BEGIN:VEVENT
DTSTART;TZID=America/New_York:20250223T080000
DTEND;TZID=America/New_York:20250223T120000
DTSTAMP:20260424T095132
CREATED:20250130T185728Z
LAST-MODIFIED:20250130T185728Z
UID:2759-1740297600-1740312000@staging.obf.org
SUMMARY:Baptism Sunday
DESCRIPTION:Would you like to be baptized to publicly profess your faith in Christ? On February 23rd\, we will celebrate the new life God has brought about in individuals of our congregation! If you would like to learn more about baptism and the opportunity to publicly declare your faith in Christ\, please complete this interest form. A staff member will follow up with you after your submission.
URL:https://staging.obf.org/event/baptism-sunday-4/
ATTACH;FMTTYPE=image/png:https://staging.obf.org/wp-content/uploads/2025/01/Baptism-Presentation-8.png
END:VEVENT
BEGIN:VEVENT
DTSTART;VALUE=DATE:20250222
DTEND;VALUE=DATE:20250223
DTSTAMP:20260424T095132
CREATED:20250130T135246Z
LAST-MODIFIED:20250204T195417Z
UID:2722-1740182400-1740268799@staging.obf.org
SUMMARY:Women's Bible Studies
DESCRIPTION:We are looking forward to gathering again to study God’s Word in the spring 2025 season! We will be studying Jonah for 11 weeks. The study is expected to run from the week of February 16th – May 4th. Studies will be offered Tuesday evenings from 8-9:30pm\, Wednesday mornings from 9:30-11am\, and Wednesday evenings from 7-8:30pm. \nGet registered here. We hope you can join! If you have any questions\, please contact the Women’s Ministry at women@obf.org.
URL:https://staging.obf.org/event/womens-bible-studies/
ATTACH;FMTTYPE=image/png:https://staging.obf.org/wp-content/uploads/2025/01/unnamed-29.png
END:VEVENT
BEGIN:VEVENT
DTSTART;VALUE=DATE:20250220
DTEND;VALUE=DATE:20250223
DTSTAMP:20260424T095132
CREATED:20250130T135344Z
LAST-MODIFIED:20250210T185201Z
UID:2727-1740009600-1740268799@staging.obf.org
SUMMARY:Men Serving Seniors
DESCRIPTION:Join us for a few days of service where men come together to make a difference in the lives of seniors. We’ll be tackling small projects\, from home repairs to gutter cleaning. Choose a time slot that works best for your schedule and register here today to lend a hand and show your support! \nIf you are a senior or know a senior who would be blessed by this type of project\, email Sam Perry at men@obf.org to share a need. \nFebruary 22: Men’s Dinner\nAt 6pm on the 22nd\, all men are invited to the church for a time of fellowship and dinner! The Men’s Ministry will provide meat and drinks. Bring a side or dessert to share. To ensure we have enough food\, please register at the link above.
URL:https://staging.obf.org/event/men-serving-seniors/
ATTACH;FMTTYPE=image/png:https://staging.obf.org/wp-content/uploads/2025/01/Blue-and-Beige-Minimalist-Charity-Project-Presentation-8.png
END:VEVENT
BEGIN:VEVENT
DTSTART;TZID=America/New_York:20250209T160000
DTEND;TZID=America/New_York:20250209T170000
DTSTAMP:20260424T095132
CREATED:20250209T153632Z
LAST-MODIFIED:20250209T153632Z
UID:2770-1739116800-1739120400@staging.obf.org
SUMMARY:Touch Football
DESCRIPTION:It is Super Bowl Sunday this weekend! Consider inviting a friend to join your family for the game or for a pickup game of touch football beforehand. A group will be meeting at the Oxford Community Park at 4pm. Plan to meet at the soccer fields closest to Fairfield Rd.
URL:https://staging.obf.org/event/touch-football/
ATTACH;FMTTYPE=image/png:https://staging.obf.org/wp-content/uploads/2025/02/IMG_8816.png
END:VEVENT
BEGIN:VEVENT
DTSTART;TZID=America/New_York:20250202T090000
DTEND;TZID=America/New_York:20250202T113000
DTSTAMP:20260424T095132
CREATED:20250130T135125Z
LAST-MODIFIED:20250130T135125Z
UID:2719-1738486800-1738495800@staging.obf.org
SUMMARY:Sunday February 2-- Micah 2:6-11
DESCRIPTION:It is hard to believe\, but this Sunday we will already be in the month of February! Thank you to all of you who attended the annual meeting and participated in the chili cook-off this year. Our three judges had a delicious and difficult job Sunday night choosing a winner! Congratulations to Molly Cary on taking home the trophy this year! Thank you to everyone who helped make Sunday night a fun and huge success! \nWe welcome and congratulate our newly appointed elder\, Dave Kahre. May God grant him and the rest of the elders wisdom and tenderness as they lead and shepherd this church. Thank you to Page Farmer and Bob Mack for their faithful service to Christ and to Oxford Bible Fellowship these past several years. As the preacher in Hebrews 6:10 writes\, “For God is not unjust so as to overlook your work and the love that you have shown for his name in serving the saints\, as you still do.” \nWe are looking forward to being together again this Sunday morning as we worship Christ! We have a full and rich service planned. We will participate in the Lord’s Table\, sing songs of worship\, and hear God’s Word from Micah 2:6-11. In preparation for Sunday’s message\, we encourage you to read the passage. Each week we provide discussion questions to help connect God’s Word to our lives. You can access this week’s discussion questions here.
URL:https://staging.obf.org/event/sunday-february-2-micah-26-11/
ATTACH;FMTTYPE=image/png:https://staging.obf.org/wp-content/uploads/2025/01/unnamed-26.png
END:VEVENT
BEGIN:VEVENT
DTSTART;TZID=America/New_York:20250126T170000
DTEND;TZID=America/New_York:20250126T193000
DTSTAMP:20260424T095132
CREATED:20250109T182957Z
LAST-MODIFIED:20250114T012403Z
UID:2692-1737910800-1737919800@staging.obf.org
SUMMARY:Annual Meeting + Chili Cook-Off
DESCRIPTION:Let’s get ready to celebrate what God has done at Oxford Bible Fellowship this past year and look forward with great expectation for what He will do this year! \nPlease join the Annual Meeting on January 26th at 5:00 PM! We would love to have every member and regular attendee come! We will be voting on the proposed budget and elder nominee\, David Kahre. If you are unable to join us in person\, the meeting will be live-streamed. \nIf you’re unable to attend\, grab a proxy form. Any member who is unable to attend the Annual Meeting in person on January 28th should pick up a proxy form at the Next Steps area in the lobby or stop by the church office during business hours to pick one up. \nLastly\, sign up here for the chili cook-off (or bring another food item to share)! If you aren’t interested in making chili\, please write your name down in the Next Steps area to bring a side dish to contribute to the dinner. We will also email about the additional food items and you can let us know what you’re bringing there.
URL:https://staging.obf.org/event/annual-meeting-chili-cook-off/
ATTACH;FMTTYPE=image/png:https://staging.obf.org/wp-content/uploads/2024/12/Annual-Meeting-5.png
END:VEVENT
BEGIN:VEVENT
DTSTART;TZID=America/New_York:20250126T103000
DTEND;TZID=America/New_York:20250126T113000
DTSTAMP:20260424T095132
CREATED:20250109T030515Z
LAST-MODIFIED:20250109T030515Z
UID:2681-1737887400-1737891000@staging.obf.org
SUMMARY:Making Life Disciples Training
DESCRIPTION:“Grow in your faith–celebrate life.” Making Life Disciples is a course created by Care-Net\, a gospel centered pro-life ministry\, to equip individuals in the church community to offer compassion\, help and hope to women and men facing pregnancy decisions. \nRegister here and join us Sunday\, January 26th\, at 10:30am to start this 12-session course. You will learn how women and men can be transformed by the gospel of Christ and in turn\, empowered to choose life for their unborn children and abundant life for their families.
URL:https://staging.obf.org/event/making-life-disciples-training-2/
ATTACH;FMTTYPE=image/png:https://staging.obf.org/wp-content/uploads/2025/01/Making-Life-Disciples-Training.png
END:VEVENT
BEGIN:VEVENT
DTSTART;VALUE=DATE:20250124
DTEND;VALUE=DATE:20250126
DTSTAMP:20260424T095132
CREATED:20250119T153648Z
LAST-MODIFIED:20250119T153648Z
UID:2705-1737676800-1737849599@staging.obf.org
SUMMARY:Men’s Summit Retreat
DESCRIPTION:Sam Perry invites you to join him at theSummit Men’s Retreat in Lebanon\, OH next Friday\, January 24th – Saturday\, January 25th. Registration is only $25 for this event! For men interested in attending\, please register here. Email Sam to coordinate travel and lodging\, available in Lebanon. Scholarships are available to cover costs.
URL:https://staging.obf.org/event/mens-summit-retreat/
ATTACH;FMTTYPE=image/png:https://staging.obf.org/wp-content/uploads/2025/01/IMG_8572.png
END:VEVENT
BEGIN:VEVENT
DTSTART;TZID=America/New_York:20250123T080000
DTEND;TZID=America/New_York:20250123T170000
DTSTAMP:20260424T095132
CREATED:20250123T223800Z
LAST-MODIFIED:20250123T223800Z
UID:2716-1737619200-1737651600@staging.obf.org
SUMMARY:Sunday\, January 26: Micah 2:1-5
DESCRIPTION:This Sunday Pastor Emanuel will be continuing our series in the Book of Micah. Our passage of study will be Micah 2:1-5 and we encourage you to read ahead in preparation for the sermon. Discussion questions for Micah 2:1-5 can be found here. \nThis Sunday we will resume two services and welcome back our Miami students! Our Student Ministry will also resume meeting in the Loft at 10:30am.
URL:https://staging.obf.org/event/sunday-january-26-micah-21-5/
ATTACH;FMTTYPE=image/png:https://staging.obf.org/wp-content/uploads/2025/01/unnamed-26.png
END:VEVENT
BEGIN:VEVENT
DTSTART;TZID=America/New_York:20250119T113000
DTEND;TZID=America/New_York:20250119T123000
DTSTAMP:20260424T095132
CREATED:20241231T192612Z
LAST-MODIFIED:20241231T192612Z
UID:2661-1737286200-1737289800@staging.obf.org
SUMMARY:Budget Meeting
DESCRIPTION:There will be a budget meeting the Sunday prior to the Annual Meeting\, January 19th\, immediately after the service. This will be an opportunity to ask questions of Justin Kailer\, the OBF Director of Finance\, on the proposed 2025 budget. This meeting is open to both members and regular attenders.
URL:https://staging.obf.org/event/budget-meeting/
ATTACH;FMTTYPE=image/png:https://staging.obf.org/wp-content/uploads/2024/12/unnamed-62.png
END:VEVENT
BEGIN:VEVENT
DTSTART;TZID=America/New_York:20250112T103000
DTEND;TZID=America/New_York:20250112T113000
DTSTAMP:20260424T095132
CREATED:20250109T182816Z
LAST-MODIFIED:20250109T182816Z
UID:2690-1736677800-1736681400@staging.obf.org
SUMMARY:Sunday January 12\, 2025
DESCRIPTION:Join us this Sunday as we gather and worship our God like whom there is no other! Our sermon passage will be Micah 1:1-7. We encourage you to read ahead in preparation for Sunday’s message. Discussion questions for Micah 1:1-7 can be found here.
URL:https://staging.obf.org/event/sunday-january-12-2025/
ATTACH;FMTTYPE=image/png:https://staging.obf.org/wp-content/uploads/2025/01/unnamed-26.png
END:VEVENT
BEGIN:VEVENT
DTSTART;TZID=America/New_York:20250102T080000
DTEND;TZID=America/New_York:20250102T170000
DTSTAMP:20260424T095132
CREATED:20250103T013912Z
LAST-MODIFIED:20250103T013912Z
UID:2671-1735804800-1735837200@staging.obf.org
SUMMARY:Micah: Sunday\, January 5th
DESCRIPTION:Happy New Year! This Sunday Pastor Emanuel will be starting our sermon series through the book of Micah. We encourage you to read all seven chapters of Micah this week. Discussion questions are also available here.  \nWe will be having communion at the beginning of service this Sunday. Families with children (including Club 45 students)\, please check-in your nursery-age through 5th grade students and begin service with them in the sanctuary. They will be dismissed to their classes after we take communion.
URL:https://staging.obf.org/event/micah-sunday-january-5th/
ATTACH;FMTTYPE=image/png:https://staging.obf.org/wp-content/uploads/2025/01/unnamed-26.png
END:VEVENT
BEGIN:VEVENT
DTSTART;TZID=America/New_York:20241224T233000
DTEND;TZID=America/New_York:20241225T000000
DTSTAMP:20260424T095132
CREATED:20241219T031131Z
LAST-MODIFIED:20241219T031131Z
UID:2640-1735083000-1735084800@staging.obf.org
SUMMARY:Midnight Carols: Christmas Eve
DESCRIPTION:December 24: Midnight Carols\nJoin us (much later) on Christmas Eve from 11:30pm – midnight to usher in Christmas morning with candlelight and carols! This gathering\, in the blackness of night\, will give a beautiful picture of Jesus\, the light of the world\, breaking into darkness. \nAs John 1:4-5 tells us\, “In him was life\, and the life was the light of men. The light shines in the darkness\, and the darkness has not overcome it” (ESV; emphasis added).
URL:https://staging.obf.org/event/midnight-carols-christmas-eve/
ATTACH;FMTTYPE=image/png:https://staging.obf.org/wp-content/uploads/2024/12/Midnight-Carols-1130pm-midnight-1.png
END:VEVENT
BEGIN:VEVENT
DTSTART;TZID=America/New_York:20241224T170000
DTEND;TZID=America/New_York:20241224T180000
DTSTAMP:20260424T095132
CREATED:20241219T030727Z
LAST-MODIFIED:20241219T030727Z
UID:2637-1735059600-1735063200@staging.obf.org
SUMMARY:Christmas Eve Service
DESCRIPTION:December 24: Christmas Eve Service\nOn December 24th from 5-6pm\, we invite you\, your families\, and friends to participate in this year’s Christmas Eve service! Celebrate Jesus’ first coming with us through song and scripture reading. Afterwards\, there will be a time to enjoy Christmas cookies together.
URL:https://staging.obf.org/event/christmas-eve-service/
ATTACH;FMTTYPE=image/png:https://staging.obf.org/wp-content/uploads/2024/12/Christmas-Eve-Service-4.png
END:VEVENT
BEGIN:VEVENT
DTSTART;TZID=America/New_York:20241209T080000
DTEND;TZID=America/New_York:20241212T160000
DTSTAMP:20260424T095132
CREATED:20241206T185653Z
LAST-MODIFIED:20241206T185653Z
UID:2608-1733731200-1734019200@staging.obf.org
SUMMARY:Study Cafe
DESCRIPTION:Coffee\, snacks\, quiet individual & group study spaces available
URL:https://staging.obf.org/event/study-cafe/
ATTACH;FMTTYPE=image/png:https://staging.obf.org/wp-content/uploads/2024/12/unnamed-23.png
END:VEVENT
BEGIN:VEVENT
DTSTART;TZID=America/New_York:20241208T090000
DTEND;TZID=America/New_York:20241208T113000
DTSTAMP:20260424T095132
CREATED:20241206T185538Z
LAST-MODIFIED:20241206T185538Z
UID:2602-1733648400-1733657400@staging.obf.org
SUMMARY:Sunday December 8\, 2024-- Isaiah 9:1-2
DESCRIPTION:We are excited to enter the season of Advent with you beginning this Sunday! The word advent comes from the Latin word adventus meaning arrival. Our Advent series this year is titled “Unto Us” as we take the next four weeks to walk through Isaiah 9 celebrating that unto us Light\, Joy\, a King\, and Salvation has came! \nThis Sunday we have the pleasure of hearing from Steve Hricko as he preaches from Isaiah 9:1-2. We encourage you to consider reading all of Isaiah 9 ahead of time to better follow along. \nTo help us better reflect and celebrate Advent\, Pastor Emanuel will once again this year be emailing a short devotional put together by Every Moment Holy. Each devotional comes with a fun Scripture memorization activity and discussion questions. This week’s devotional can be found here.
URL:https://staging.obf.org/event/sunday-december-8-2024-isaiah-91-2/
ATTACH;FMTTYPE=image/jpeg:https://staging.obf.org/wp-content/uploads/2024/12/unnamed-4.jpg
END:VEVENT
BEGIN:VEVENT
DTSTART;TZID=America/New_York:20241206T180000
DTEND;TZID=America/New_York:20241206T203000
DTSTAMP:20260424T095132
CREATED:20241114T210857Z
LAST-MODIFIED:20241114T210857Z
UID:2579-1733508000-1733517000@staging.obf.org
SUMMARY:Women’s Christmas Blitz
DESCRIPTION:We hope you can join us for this year’s women’s Christmas Blitz on December 6th from 6-8:30PM! The gathering will be a festive time of food\, fun\, and frenzied activity as we deck the halls of the church! This is a great opportunity to kick off the Christmas season in fellowship over dinner and decorating. We can’t wait to see you there! Please RSVP here.
URL:https://staging.obf.org/event/womens-christmas-blitz/
ATTACH;FMTTYPE=image/png:https://staging.obf.org/wp-content/uploads/2024/11/IMG_7974.png
END:VEVENT
BEGIN:VEVENT
DTSTART;VALUE=DATE:20241201
DTEND;VALUE=DATE:20241202
DTSTAMP:20260424T095132
CREATED:20241110T145551Z
LAST-MODIFIED:20241110T145551Z
UID:2576-1733011200-1733097599@staging.obf.org
SUMMARY:Christmas Gift Drive
DESCRIPTION:Now through December 1: Christmas Gift Drive\nThe Christmas Gift Drive is Oxford Bible Fellowship’s ministry to help local children who are in need by partnering with Talawanda School District. Our goal is to provide 100 children with Christmas giftsthis year. \nWHY PARTICIPATE\nThis ministry gives us an opportunity to share Christ’s love by helping meet the physical\, emotional\, and spiritual needs of local children. \nHOW YOU CAN HELP  \n\nSelect a child’s info packet on November 10th or 17th and receive a gift tag.\nPurchase and wrap the child’s desired Christmas gift(s). Affix gift tag to the wrapped Christmas gift(s).\nReturn wrapped Christmas gift(s) to the church by December 1st.\nIt is important that Christmas gifts are returned on time!\nIf you would like to help deliver the gifts\, please contact Ellen at eljo13@yahoo.com.
URL:https://staging.obf.org/event/christmas-gift-drive/
ATTACH;FMTTYPE=image/png:https://staging.obf.org/wp-content/uploads/2024/11/IMG_7967.png
END:VEVENT
END:VCALENDAR