BEGIN:VCALENDAR
VERSION:2.0
PRODID:-//Oxford Bible Fellowship - ECPv6.15.20//NONSGML v1.0//EN
CALSCALE:GREGORIAN
METHOD:PUBLISH
X-WR-CALNAME:Oxford Bible Fellowship
X-ORIGINAL-URL:https://staging.obf.org
X-WR-CALDESC:Events for Oxford Bible Fellowship
REFRESH-INTERVAL;VALUE=DURATION:PT1H
X-Robots-Tag:noindex
X-PUBLISHED-TTL:PT1H
BEGIN:VTIMEZONE
TZID:America/New_York
BEGIN:DAYLIGHT
TZOFFSETFROM:-0500
TZOFFSETTO:-0400
TZNAME:EDT
DTSTART:20230312T070000
END:DAYLIGHT
BEGIN:STANDARD
TZOFFSETFROM:-0400
TZOFFSETTO:-0500
TZNAME:EST
DTSTART:20231105T060000
END:STANDARD
BEGIN:DAYLIGHT
TZOFFSETFROM:-0500
TZOFFSETTO:-0400
TZNAME:EDT
DTSTART:20240310T070000
END:DAYLIGHT
BEGIN:STANDARD
TZOFFSETFROM:-0400
TZOFFSETTO:-0500
TZNAME:EST
DTSTART:20241103T060000
END:STANDARD
BEGIN:DAYLIGHT
TZOFFSETFROM:-0500
TZOFFSETTO:-0400
TZNAME:EDT
DTSTART:20250309T070000
END:DAYLIGHT
BEGIN:STANDARD
TZOFFSETFROM:-0400
TZOFFSETTO:-0500
TZNAME:EST
DTSTART:20251102T060000
END:STANDARD
END:VTIMEZONE
BEGIN:VEVENT
DTSTART;TZID=America/New_York:20240804T103000
DTEND;TZID=America/New_York:20240804T113000
DTSTAMP:20260425T081225
CREATED:20240804T003840Z
LAST-MODIFIED:20240804T003840Z
UID:2353-1722767400-1722771000@staging.obf.org
SUMMARY:Sunday Sermon: Ezra 8
DESCRIPTION:Join us this Sunday as Pastor Emanuel continues our preaching series in the book of Ezra. The sermon passage for this week is Ezra 8 and we encourage you to read it in preparation for Sunday. We also have discussion questions available for those interested. \nThis Sunday we will also be taking communion. These days prior give us space to confess our sin\, make peace with a brother or sister\, and prepare our hearts to remember and celebrate Christ’s sacrifice together. \nLike last week\, K – 3rd grade students will begin the service with us and be dismissed from the sanctuary to their classes after the scripture reading. Please sign-in your children before service. This will make it easier when they are dismissed. Thank you!
URL:https://staging.obf.org/event/sunday-sermon-ezra-8/
ATTACH;FMTTYPE=image/png:https://staging.obf.org/wp-content/uploads/2024/06/unnamed-51.png
END:VEVENT
BEGIN:VEVENT
DTSTART;TZID=America/New_York:20240728T103000
DTEND;TZID=America/New_York:20240728T113000
DTSTAMP:20260425T081225
CREATED:20240708T150026Z
LAST-MODIFIED:20240708T150053Z
UID:2331-1722162600-1722166200@staging.obf.org
SUMMARY:Baptism Sunday
DESCRIPTION:Would you like to be baptized to publicly profess your faith in Christ? On July 28th\, we will celebrate the new life God has brought about in individuals of our congregation! If you would like to learn more about baptism and the opportunity to publicly declare your faith in Christ\, please complete this interest form. Pastor Emanuel will follow up with you after your submission.
URL:https://staging.obf.org/event/baptism-sunday-3/
ATTACH;FMTTYPE=image/png:https://staging.obf.org/wp-content/uploads/2024/07/unnamed-7.png
END:VEVENT
BEGIN:VEVENT
DTSTART;TZID=America/New_York:20240721T090000
DTEND;TZID=America/New_York:20240721T100000
DTSTAMP:20260425T081225
CREATED:20240708T145855Z
LAST-MODIFIED:20240708T145914Z
UID:2328-1721552400-1721556000@staging.obf.org
SUMMARY:Membership Class
DESCRIPTION:We will be having a membership class on July 21st at 9am.This membership class is not only for those who are interested in becoming members\, it is also a great “first step” in getting to know more about Oxford Bible Fellowship! You will hear from Pastor Emanuel and a few elders about our history\, our leadership\, our doctrinal statement\, and other things that make us distinct from other churches in the Oxford area. If you are interested in attending\, please email admin@obf.org by Thursday the 18th.
URL:https://staging.obf.org/event/membership-class-3/
ATTACH;FMTTYPE=image/png:https://staging.obf.org/wp-content/uploads/2024/07/unnamed-6.png
END:VEVENT
BEGIN:VEVENT
DTSTART;TZID=America/New_York:20240707T113000
DTEND;TZID=America/New_York:20240707T130000
DTSTAMP:20260425T081225
CREATED:20240628T202510Z
LAST-MODIFIED:20240628T202510Z
UID:2314-1720351800-1720357200@staging.obf.org
SUMMARY:Churchwide Picnic
DESCRIPTION:Following the service on July 7th\, we invite everyone to stick around for a churchwide picnic! Please bring enough food and drinks for your family. You’re also welcome to bring extra food to share! We’ll have tables set up for additional food. If you’re able\, please bring a blanket or camping chairs for a comfortable place to sit. We hope to see you for this fun time of fellowship!
URL:https://staging.obf.org/event/churchwide-picnic/
ATTACH;FMTTYPE=image/png:https://staging.obf.org/wp-content/uploads/2024/06/unnamed-5.png
END:VEVENT
BEGIN:VEVENT
DTSTART;VALUE=DATE:20240702
DTEND;VALUE=DATE:20240703
DTSTAMP:20260425T081225
CREATED:20240614T015025Z
LAST-MODIFIED:20240624T183122Z
UID:2253-1719878400-1719964799@staging.obf.org
SUMMARY:Women's Summer Bible Study
DESCRIPTION:We are looking forward to gathering this summer to study God’s Word! The title\, Waiting for Hope\, captures the heart of Malachi as it closes out the Old Testament and points to the promised Messiah one last time. Kayla Brosey will be hosting a 5-week study of Malachi\, beginning July 2nd and running until July 30th. This group will meet on Tuesdays from 8-9:30pm. \nRegister here today! The $8 cost includes the study book and an illuminated scripture journal of Malachi. Feel free to pick these up in the Next Steps area on Sunday\, in the church office during regular business hours\, or at the first Bible study gathering! If you have any questions\, please contact the Women’s Ministry at women@obf.org.
URL:https://staging.obf.org/event/womens-summer-bible-study/
ATTACH;FMTTYPE=image/png:https://staging.obf.org/wp-content/uploads/2024/06/unnamed-52.png
END:VEVENT
BEGIN:VEVENT
DTSTART;TZID=America/New_York:20240630T103000
DTEND;TZID=America/New_York:20240630T113000
DTSTAMP:20260425T081225
CREATED:20240628T202351Z
LAST-MODIFIED:20240628T202351Z
UID:2312-1719743400-1719747000@staging.obf.org
SUMMARY:Sunday\, June 30th: Ezra 3
DESCRIPTION:This Sunday we will be walking through Ezra 3. Imagine for a minute the scene that is described in Ezra 3. Thousands of men have gathered to rebuild the foundation of the temple and construct an altar to the Lord. After the foundation has been laid and the alter built\, the priests come in their priestly garments with trumpets. The Levites and the sons of Asaph\, come with cymbals\, to praise the Lord\, according to the directions of king David. The priests\, Levites\, and song leaders lead the people as they sing responsively Psalm 136: “Give thanks to the Lord for he is good\, for his steadfast love endures forever”. And all the people shout with a great shout as they praise the Lord\, because the foundation of the house of the Lord has been laid (Ezra 3:10-11). \nWe encourage everyone to read Ezra 3 in preparation for Sunday. Each week we also provide study questions for those interested in doing a deeper dive into the preaching text. \nThe children will be participating in service again this week! At the beginning of service\, we will invite children who participated in VBS to join us on stage to sing one of the songs\, “Today is the Day.” The other songs that we will sing Sunday are listed below:\n\nI Will Sing of My Redeemer (Selah)\nWorthy Worthy\nI Surrender All\nGoodness of God
URL:https://staging.obf.org/event/sunday-june-30th-ezra-3/
ATTACH;FMTTYPE=image/png:https://staging.obf.org/wp-content/uploads/2024/06/unnamed-51.png
END:VEVENT
BEGIN:VEVENT
DTSTART;VALUE=DATE:20240624
DTEND;VALUE=DATE:20240627
DTSTAMP:20260425T081225
CREATED:20240505T135520Z
LAST-MODIFIED:20240619T142726Z
UID:2155-1719187200-1719446399@staging.obf.org
SUMMARY:Vacation Bible School- June 24-26
DESCRIPTION:VBS is almost here! If your child is between the ages of 4 and 12 years old\, register them here by June 21st. VBS will run from 6-8:15pm from June 24th-26th. We hope to see you there!
URL:https://staging.obf.org/event/vacation-bible-school/
ATTACH;FMTTYPE=image/png:https://staging.obf.org/wp-content/uploads/2024/05/VBS-Volunteer-Flyer-Presentation-9.png
END:VEVENT
BEGIN:VEVENT
DTSTART;VALUE=DATE:20240622
DTEND;VALUE=DATE:20240623
DTSTAMP:20260425T081225
CREATED:20240531T012338Z
LAST-MODIFIED:20240531T012338Z
UID:2229-1719014400-1719100799@staging.obf.org
SUMMARY:Help Greeting Team!
DESCRIPTION:We are looking for volunteers to help our First Impressions Team greet and prepare coffee throughout the summer. Volunteer here by clicking the checkbox next to the date you’re able to serve and then click ‘SIGN UP’ in the upper righthand corner.
URL:https://staging.obf.org/event/help-greeting-team/
ATTACH;FMTTYPE=image/png:https://staging.obf.org/wp-content/uploads/2024/05/unnamed-3.png
END:VEVENT
BEGIN:VEVENT
DTSTART;TZID=America/New_York:20240616T103000
DTEND;TZID=America/New_York:20240616T113000
DTSTAMP:20260425T081225
CREATED:20240614T014725Z
LAST-MODIFIED:20240614T015117Z
UID:2249-1718533800-1718537400@staging.obf.org
SUMMARY:Sunday\, June 16-- Ezra 1:1-11
DESCRIPTION:Happy (early) Father’s Day to all the OBF dads! A godly father is a gift to his family. A godly father lives and leaves a legacy of faith to his children and grandchildren. We are so thankful for the fathers in our lives\, physical and spiritual. May God continue to use you and strengthen you to imitate our Heavenly Father as you pray\, provide\, and protect your families. \nThis Sunday Pastor Emanuel will be walking us through Ezra 1:1-11 in our summer sermon series. We encourage you to read Ezra 1:1-11 in preparation for Sunday’s message. Discussion questions are available here for this week’s passage. \nWe have loved having our children participate in services with us! All children will continue participating in service this Sunday and for the remainder of June. When finding your seats\, please move to the center or end of your row to make room for other families. We have enough space but might need to move closer together so everyone can find a seat! We look forward to gathering with you all again this Sunday.
URL:https://staging.obf.org/event/sunday-june-16-ezra-11-11/
ATTACH;FMTTYPE=image/png:https://staging.obf.org/wp-content/uploads/2024/06/unnamed-51.png
END:VEVENT
BEGIN:VEVENT
DTSTART;TZID=America/New_York:20240609T113000
DTEND;TZID=America/New_York:20240609T123000
DTSTAMP:20260425T081225
CREATED:20240531T012203Z
LAST-MODIFIED:20240531T012228Z
UID:2226-1717932600-1717936200@staging.obf.org
SUMMARY:June 9: BYOL Churchwide Picnic
DESCRIPTION:Following the service on June 9th\, we invite everyone to stick around for a “Bring Your Own Lunch” churchwide picnic! Please bring enough food and drinks for your family. We also ask that you bring a blanket or camping chairs for a comfortable place to sit. We hope to see you for this fun time of fellowship!
URL:https://staging.obf.org/event/june-9-byol-churchwide-picnic/
ATTACH;FMTTYPE=image/png:https://staging.obf.org/wp-content/uploads/2024/05/unnamed-2.png
END:VEVENT
BEGIN:VEVENT
DTSTART;TZID=America/New_York:20240602T103000
DTEND;TZID=America/New_York:20240602T113000
DTSTAMP:20260425T081225
CREATED:20240531T011948Z
LAST-MODIFIED:20240531T011948Z
UID:2220-1717324200-1717327800@staging.obf.org
SUMMARY:Habakkuk
DESCRIPTION:This week we will conclude our series through Habakkuk. Chapter three is not so much a summary as it is a response to the two previous chapters. Because of this\, you are encouraged to take 15 minutes before Sunday to read back through Habakkuk as a whole. You may also begin to ponder\, “How have I seen God show up in my own life? What are the times I was utterly overwhelmed and He came through?” \nHere are discussion questions for this week’s passage. We encourage you to use them as you study the passage with others. \nThe Kindergarten – 3rd graders will begin in service again this Sunday. If you haven’t already\, please read the why and how behind our shift to help your child be an engaged participant this week. To further help our children participate and sing along\, we’ve also included the song list below. Consider listening to these songs ahead of time to help familiarize your kids with the words. \nHow Great Thou Art\nForever Reign\nChrist is Mine Forevermore – CityAlight\nKing of my Heart\nI Surrender All
URL:https://staging.obf.org/event/habakkuk/
ATTACH;FMTTYPE=image/png:https://staging.obf.org/wp-content/uploads/2024/05/unnamed.png
END:VEVENT
BEGIN:VEVENT
DTSTART;VALUE=DATE:20240602
DTEND;VALUE=DATE:20240609
DTSTAMP:20260425T081225
CREATED:20240531T012117Z
LAST-MODIFIED:20240531T012117Z
UID:2223-1717286400-1717891199@staging.obf.org
SUMMARY:Big Creek Mission Trip
DESCRIPTION:June 2 – June 8: Big Creek Missions Trip\nThis Sunday our high school youth group students are departing for a week of service at Big Creek Missions in Kentucky! There will be no youth group this Wednesday\, the 5th\, as many students and leaders will be away. \nPlease be in prayer for the students and leaders on this trip! Pray for effective preparation ahead of time and for safe travels to and from Kentucky. Also\, pray for Christ to be glorified in the lives of those the team will reach and in the life of each member of the team as a result of the trip.
URL:https://staging.obf.org/event/big-creek-mission-trip/
ATTACH;FMTTYPE=image/png:https://staging.obf.org/wp-content/uploads/2024/05/unnamed-1.png
END:VEVENT
BEGIN:VEVENT
DTSTART;TZID=America/New_York:20240513T080000
DTEND;TZID=America/New_York:20240516T160000
DTSTAMP:20260425T081225
CREATED:20240505T135202Z
LAST-MODIFIED:20240505T135202Z
UID:2149-1715587200-1715875200@staging.obf.org
SUMMARY:May 13-16: Study Café
DESCRIPTION:We are hosting a study café for college students May 13-16th from 8am-4pm. There will be a mix of individual and group study spaces around the building\, coffee\, and snacks! This is a great opportunity to invite friends to study with you at the church and to enjoy some free snacks too! \nIf you’re NOT a college student and you’d like to contribute a snack item to bless their final’s week\, you can sign up here.
URL:https://staging.obf.org/event/may-13-16-study-cafe/
ATTACH;FMTTYPE=image/png:https://staging.obf.org/wp-content/uploads/2024/05/unnamed-48.png
END:VEVENT
BEGIN:VEVENT
DTSTART;TZID=America/New_York:20240505T090000
DTEND;TZID=America/New_York:20240505T113000
DTSTAMP:20260425T081225
CREATED:20240505T135011Z
LAST-MODIFIED:20240505T135011Z
UID:2147-1714899600-1714908600@staging.obf.org
SUMMARY:Sunday Sermon: John 17
DESCRIPTION:This Sunday we will be in John 17 looking at what is known as Jesus’ high priestly prayer.  With the cross and death before him\, Jesus bares his heart to his disciples and gives us access to know his heart and his thoughts. It is no wonder that many pastors and Bible commentators refer to John 17 as being the doorway to the “Holy of Holies”. The Scottish reformer\, John Knox\, asked that this chapter be read to him every day in the days leading to his death and during his final moments on earth. Thomas Manton\, chaplain to the English politician Oliver Cromwell\, preached forty-five sermons on it. And Marcus Rainsford\, an Irish pastor\, wrote a commentary of over 500 pages on just John 17! What a privilege to hear and study what Jesus prayed for us! If you would like to meditate on this passage ahead of time\, you can find study questions here.
URL:https://staging.obf.org/event/sunday-sermon-john-17/
ATTACH;FMTTYPE=image/png:https://staging.obf.org/wp-content/uploads/2023/09/unnamed-23.png
END:VEVENT
BEGIN:VEVENT
DTSTART;VALUE=DATE:20240502
DTEND;VALUE=DATE:20240503
DTSTAMP:20260425T081225
CREATED:20240428T135451Z
LAST-MODIFIED:20240428T135451Z
UID:2141-1714608000-1714694399@staging.obf.org
SUMMARY:Oxford Day of Prayer
DESCRIPTION:This year the annual Oxford Day of Prayer will be Thursday\, May 2nd. Oxford Bible Fellowship\, together with other local churches\, is invited to participate in a 24-hour prayer event that will begin at 12AM and end at 11:59PM. Please sign up to pray here. \nFor anyone interested\, there will be a group of people praying at OBF on May 2nd from 2-4PM. There will also be both a lunchtime prayer gathering at the Presbyterian Seminary building on May 2nd from 12PM – 1PM and a prayer night gathering at the AP church from 7-8:30PM.
URL:https://staging.obf.org/event/oxford-day-of-prayer/
ATTACH;FMTTYPE=image/png:https://staging.obf.org/wp-content/uploads/2024/04/Prayer-Meeting-1920-×-1080-px-5.png
END:VEVENT
BEGIN:VEVENT
DTSTART;TZID=America/New_York:20240421T090000
DTEND;TZID=America/New_York:20240421T103000
DTSTAMP:20260425T081225
CREATED:20240415T141144Z
LAST-MODIFIED:20240415T141144Z
UID:2132-1713690000-1713695400@staging.obf.org
SUMMARY:Baby Dedications
DESCRIPTION:“Behold\, children are a heritage from the Lord\, the fruit of the womb a reward. Like arrows in the hand of a warrior are the children of one’s youth.” Psalm 127:3\,4 \nOn April 21\, our church body will have the joy of coming alongside parents to celebrate the honor of raising children\, through child dedication. Child dedication is also an opportunity for parents to express their commitment to raising their children in the knowledge of the Lord and reflect on their dependence on God and the church body for strength to do so.  \nIf you would like to have your child(ren) dedicated\, please complete the child dedication registration form by Monday\, April 15.
URL:https://staging.obf.org/event/baby-dedications/
ATTACH;FMTTYPE=image/png:https://staging.obf.org/wp-content/uploads/2024/04/Child-Dedication.png
END:VEVENT
BEGIN:VEVENT
DTSTART;TZID=America/New_York:20240420T080000
DTEND;TZID=America/New_York:20240420T170000
DTSTAMP:20260425T081225
CREATED:20240420T165712Z
LAST-MODIFIED:20240420T165712Z
UID:2135-1713600000-1713632400@staging.obf.org
SUMMARY:Sunday Sermon: John 15
DESCRIPTION:Join us this Sunday as we walk through John 15 and examine what it means to abide in Jesus. We encourage you to take time this week to read all of John 15\, allowing Scripture to begin having its intended effect. If you are interested in discussion questions\, they can be found here.
URL:https://staging.obf.org/event/sunday-sermon-john-15/
ATTACH;FMTTYPE=image/png:https://staging.obf.org/wp-content/uploads/2023/09/unnamed-23.png
END:VEVENT
BEGIN:VEVENT
DTSTART;TZID=America/New_York:20240413T200000
DTEND;TZID=America/New_York:20240413T210000
DTSTAMP:20260425T081225
CREATED:20240411T182552Z
LAST-MODIFIED:20240411T182552Z
UID:2128-1713038400-1713042000@staging.obf.org
SUMMARY:Edwin Yamauchi Lecture
DESCRIPTION:This Saturday at 8:00PM Dr. Daniel Block\, Professor of Old Testament Emeritus at Wheaton College\, will be speaking on “Worship in the Hebrew Scriptures” in the annual Edwin M. Yamauchi lecture series. This will be held in the Shideler Auditorium (Room 152).
URL:https://staging.obf.org/event/edwin-yamauchi-lecture/
ATTACH;FMTTYPE=image/png:https://staging.obf.org/wp-content/uploads/2024/04/Dr.-Y-Lectureship-Series-6.png
END:VEVENT
BEGIN:VEVENT
DTSTART;TZID=America/New_York:20240407T090000
DTEND;TZID=America/New_York:20240407T103000
DTSTAMP:20260425T081225
CREATED:20240328T192841Z
LAST-MODIFIED:20240328T192841Z
UID:2117-1712480400-1712485800@staging.obf.org
SUMMARY:Membership Class
DESCRIPTION:We will be offering our Membership Class on April 7th during our first service\, beginning at 9AM. This is a time for those interested in joining our church family to hear our vision and values as a church\, meet some of the church leaders\, and ask questions. Childcare will be provided as your children can join our OBF Kids classes during that hour. There will also be light breakfast items. Please register here.
URL:https://staging.obf.org/event/membership-class-2/
ATTACH;FMTTYPE=image/png:https://staging.obf.org/wp-content/uploads/2024/03/Membership-Membership-Class-4.png
END:VEVENT
BEGIN:VEVENT
DTSTART;TZID=America/New_York:20240406T110000
DTEND;TZID=America/New_York:20240406T190000
DTSTAMP:20260425T081226
CREATED:20240328T193759Z
LAST-MODIFIED:20240328T193759Z
UID:2120-1712401200-1712430000@staging.obf.org
SUMMARY:Eclipse Festival Uptown
DESCRIPTION:OBF has the opportunity to host a table at the Uptown Eclipse festival on April 6th. This is a wonderful opportunity provided by the city to meet new people\, offer a loving and Christ-centered presence uptown\, and to invite the community to come to OBF. \nIn order to take full advantage of this opportunity\, we would like 2-5 volunteers to be present at the table during the event. These people will be the first to connect with new folks\, share about OBF\, and invite them to join us. Please sign-up to help here!
URL:https://staging.obf.org/event/eclipse-festival-uptown/
ATTACH;FMTTYPE=image/png:https://staging.obf.org/wp-content/uploads/2024/03/Eclipse-Graphic-2.png
END:VEVENT
BEGIN:VEVENT
DTSTART;TZID=America/New_York:20240331T103000
DTEND;TZID=America/New_York:20240331T113000
DTSTAMP:20260425T081226
CREATED:20240316T005125Z
LAST-MODIFIED:20240316T005125Z
UID:2112-1711881000-1711884600@staging.obf.org
SUMMARY:March 31: Greeters needed on Easter Sunday
DESCRIPTION:We will need help greeting and directing foot traffic for Easter Sunday! To sign up and greet on March 31st\, click here and scroll down to find Easter Service (in bold). Choose the position that you’re interested in by clicking the adjoining checkbox followed by the blue ‘Sign Up’ button in the top right. \nWhile you’re at it\, consider volunteering for other available Sundays through the end of the semester! If you have questions or have trouble signing up\, please contact us at admin@obf.org.
URL:https://staging.obf.org/event/march-31-greeters-needed-on-easter-sunday/
ATTACH;FMTTYPE=image/png:https://staging.obf.org/wp-content/uploads/2024/03/unnamed-45.png
END:VEVENT
BEGIN:VEVENT
DTSTART;TZID=America/New_York:20240331T103000
DTEND;TZID=America/New_York:20240331T113000
DTSTAMP:20260425T081226
CREATED:20240309T195847Z
LAST-MODIFIED:20240309T195847Z
UID:2105-1711881000-1711884600@staging.obf.org
SUMMARY:Easter Sunday
DESCRIPTION:Easter is only a few weeks away. We hope you\, your family\, and your neighbors can join us at Armstrong Student Center for this year’s Easter service at 10:30AM! Parking details will be shared closer to the 31st.
URL:https://staging.obf.org/event/easter-sunday/
ATTACH;FMTTYPE=image/png:https://staging.obf.org/wp-content/uploads/2024/03/unnamed-44.png
END:VEVENT
BEGIN:VEVENT
DTSTART;TZID=America/New_York:20240322T180000
DTEND;TZID=America/New_York:20240322T200000
DTSTAMP:20260425T081226
CREATED:20240309T195742Z
LAST-MODIFIED:20240309T195742Z
UID:2102-1711130400-1711137600@staging.obf.org
SUMMARY:March Madness Men's Gathering
DESCRIPTION:March Madness is upon us(!) and our men’s ministry is hosting a watch party for the first round of the tournament. We hope you can join us Friday\, March 22 at 6PM at Ivan Carver’s house (2447 Spring Orchard Lane\, Hamilton\, OH). If you’re able to attend\, please RSVP to men@obf.org. Pizza will be available. Snack contributions welcome!
URL:https://staging.obf.org/event/march-madness-mens-gathering/
ATTACH;FMTTYPE=image/png:https://staging.obf.org/wp-content/uploads/2024/03/unnamed-43.png
END:VEVENT
BEGIN:VEVENT
DTSTART;TZID=America/New_York:20240317T090000
DTEND;TZID=America/New_York:20240317T113000
DTSTAMP:20260425T081226
CREATED:20240316T003413Z
LAST-MODIFIED:20240316T003413Z
UID:2110-1710666000-1710675000@staging.obf.org
SUMMARY:Sunday March 17-- John 12:1-11
DESCRIPTION:This Sunday we have the privilege of hearing from Taylor Scott as he continues our series in the Gospel of John. Taylor will be preaching from John 12:1-11 and as we do in every weekly email\, we invite you to read the passage in preparation for Sunday morning! \nPlease be in prayer for Pastor Emanuel as he flies out Sunday night for Romania. He will be preaching at a church planting conference in Bucharest next week to pastors and church planters from Romania and Moldova. As Pastor Emanuel is away\, we will not have a formal prayer meeting for the next two weeks. Feel free to still gather at the church to pray\, as you feel led!
URL:https://staging.obf.org/event/sunday-march-17-john-121-11/
ATTACH;FMTTYPE=image/png:https://staging.obf.org/wp-content/uploads/2023/09/unnamed-23.png
END:VEVENT
BEGIN:VEVENT
DTSTART;TZID=America/New_York:20240310T090000
DTEND;TZID=America/New_York:20240310T113000
DTSTAMP:20260425T081226
CREATED:20240309T195525Z
LAST-MODIFIED:20240309T195525Z
UID:2100-1710061200-1710070200@staging.obf.org
SUMMARY:Sunday\, March 10--John 11
DESCRIPTION:This Sunday Pastor Emanuel will preach through John 11. We encourage you to read the passage beforehand and make use of the study guide provided here.
URL:https://staging.obf.org/event/sunday-march-10-john-11/
ATTACH;FMTTYPE=image/png:https://staging.obf.org/wp-content/uploads/2023/09/unnamed-23.png
END:VEVENT
BEGIN:VEVENT
DTSTART;TZID=America/New_York:20240310T090000
DTEND;TZID=America/New_York:20240310T113000
DTSTAMP:20260425T081226
CREATED:20240216T014721Z
LAST-MODIFIED:20240216T014721Z
UID:2056-1710061200-1710070200@staging.obf.org
SUMMARY:Baptism Sunday
DESCRIPTION:Are you interested in being baptized as a public profession of your faith in Christ? The next baptisms will take place on Sunday\, March 10th. If you would like to learn more about baptism and the opportunity to publicly declare your faith in Christ\, please complete this interest form. Pastor Emanuel will follow up with you based on your submission!
URL:https://staging.obf.org/event/baptism-sunday-2/
ATTACH;FMTTYPE=image/png:https://staging.obf.org/wp-content/uploads/2024/02/Baptism-1920-×-1080-px-1.png
END:VEVENT
BEGIN:VEVENT
DTSTART;TZID=America/New_York:20240303T090000
DTEND;TZID=America/New_York:20240303T113000
DTSTAMP:20260425T081226
CREATED:20240302T012321Z
LAST-MODIFIED:20240302T012321Z
UID:2082-1709456400-1709465400@staging.obf.org
SUMMARY:Sunday Sermon: John 10:22-42
DESCRIPTION:Join us this Sunday as Pastor Emanuel walks us though the second part of John 10. Our passage of study will be John 10:22-42. We invite you to read ahead in preparation for Sunday’s message! Discussion questions for John 10 can be found here.
URL:https://staging.obf.org/event/sunday-sermon-john-1022-42/
ATTACH;FMTTYPE=image/png:https://staging.obf.org/wp-content/uploads/2023/09/unnamed-23.png
END:VEVENT
BEGIN:VEVENT
DTSTART;TZID=America/New_York:20240303T090000
DTEND;TZID=America/New_York:20240303T100000
DTSTAMP:20260425T081226
CREATED:20240216T014612Z
LAST-MODIFIED:20240302T012146Z
UID:2054-1709456400-1709460000@staging.obf.org
SUMMARY:Membership Class--Postponed
DESCRIPTION:Our Membership Class is postponed until a later date. The majority of those interested aren’t available this weekend. Pastor Emanuel will reach out to those interested and we will communicate the new date\, once scheduled.
URL:https://staging.obf.org/event/membership-class/
ATTACH;FMTTYPE=image/png:https://staging.obf.org/wp-content/uploads/2024/02/unnamed-28.png
END:VEVENT
BEGIN:VEVENT
DTSTART;TZID=America/New_York:20240227T183000
DTEND;TZID=America/New_York:20240227T193000
DTSTAMP:20260425T081226
CREATED:20240216T014518Z
LAST-MODIFIED:20240216T014518Z
UID:2049-1709058600-1709062200@staging.obf.org
SUMMARY:Weekly Prayer
DESCRIPTION:Join Pastor Emanuel on Tuesdays from 6:30-7:30PM to pray for our church\, our town\, our country\, and our world!
URL:https://staging.obf.org/event/weekly-prayer/
ATTACH;FMTTYPE=image/png:https://staging.obf.org/wp-content/uploads/2024/02/Prayer-Meeting-1920-×-1080-px-2.png
END:VEVENT
BEGIN:VEVENT
DTSTART;VALUE=DATE:20240225
DTEND;VALUE=DATE:20240226
DTSTAMP:20260425T081226
CREATED:20240210T144049Z
LAST-MODIFIED:20240210T144126Z
UID:2025-1708819200-1708905599@staging.obf.org
SUMMARY:Week of February 25th: Women's Spring Bible Studies
DESCRIPTION:We are looking forward to gathering again to study God’s Word in the spring 2024 season! We will study the second part of 1 Corinthians\, chapters 10-16. There is no need to have studied 1 Corinthians in the fall to participate this spring. All are welcome! The 9-week study is expected to run from approximately February 25th – April 28th. \nPlease register here. You can pick up your book anytime during the church office hours Monday – Thursday\, 9:00 – 4:00 PM\, or in the Next Steps area after Sunday services. It will also be available at the first Bible study gathering\, if you aren’t able to pick it up prior. If you have any questions\, please contact the Women’s Ministry at women@obf.org.
URL:https://staging.obf.org/event/week-of-february-25th-womens-spring-bible-studies/
ATTACH;FMTTYPE=image/png:https://staging.obf.org/wp-content/uploads/2024/02/unnamed-42.png
END:VEVENT
END:VCALENDAR