BEGIN:VCALENDAR
VERSION:2.0
PRODID:-//Oxford Bible Fellowship - ECPv6.15.20//NONSGML v1.0//EN
CALSCALE:GREGORIAN
METHOD:PUBLISH
X-ORIGINAL-URL:https://staging.obf.org
X-WR-CALDESC:Events for Oxford Bible Fellowship
REFRESH-INTERVAL;VALUE=DURATION:PT1H
X-Robots-Tag:noindex
X-PUBLISHED-TTL:PT1H
BEGIN:VTIMEZONE
TZID:America/New_York
BEGIN:DAYLIGHT
TZOFFSETFROM:-0500
TZOFFSETTO:-0400
TZNAME:EDT
DTSTART:20240310T070000
END:DAYLIGHT
BEGIN:STANDARD
TZOFFSETFROM:-0400
TZOFFSETTO:-0500
TZNAME:EST
DTSTART:20241103T060000
END:STANDARD
BEGIN:DAYLIGHT
TZOFFSETFROM:-0500
TZOFFSETTO:-0400
TZNAME:EDT
DTSTART:20250309T070000
END:DAYLIGHT
BEGIN:STANDARD
TZOFFSETFROM:-0400
TZOFFSETTO:-0500
TZNAME:EST
DTSTART:20251102T060000
END:STANDARD
BEGIN:DAYLIGHT
TZOFFSETFROM:-0500
TZOFFSETTO:-0400
TZNAME:EDT
DTSTART:20260308T070000
END:DAYLIGHT
BEGIN:STANDARD
TZOFFSETFROM:-0400
TZOFFSETTO:-0500
TZNAME:EST
DTSTART:20261101T060000
END:STANDARD
END:VTIMEZONE
BEGIN:VEVENT
DTSTART;VALUE=DATE:20251107
DTEND;VALUE=DATE:20251110
DTSTAMP:20260424T165447
CREATED:20251020T175854Z
LAST-MODIFIED:20251020T175854Z
UID:3387-1762473600-1762732799@staging.obf.org
SUMMARY:Middle School Retreat
DESCRIPTION:Consider registering your student to particpate in the Middle School Retreat happening November 7-9th! The price increases after the 25th of October. Please register here.
URL:https://staging.obf.org/event/middle-school-retreat/
ATTACH;FMTTYPE=image/png:https://staging.obf.org/wp-content/uploads/2025/10/unnamed-33.png
END:VEVENT
BEGIN:VEVENT
DTSTART;VALUE=DATE:20251115
DTEND;VALUE=DATE:20251116
DTSTAMP:20260424T165447
CREATED:20251024T193432Z
LAST-MODIFIED:20251024T193432Z
UID:3390-1763164800-1763251199@staging.obf.org
SUMMARY:Beginning this Sunday: Operation Christmas Child Gift Drive
DESCRIPTION:Bring joy and the good news of Jesus to children globally by participating in the Samaritan’s Purse Operation Christmas Child Gift Drive! This vital ministry shares God’s love by delivering your thoughtful gifts to those in need worldwide. You can pick up shoeboxes and labels from the foyer starting this Sunday\, October 25th. The gift drive will run for three weeks\, with a Christmas Bin provided in the foyer for easy drop-offs. Please ensure your filled shoeboxes are dropped off no later than Sunday\, November 15th.
URL:https://staging.obf.org/event/beginning-this-sunday-operation-christmas-child-gift-drive/
ATTACH;FMTTYPE=image/png:https://staging.obf.org/wp-content/uploads/2025/10/unnamed-34.png
END:VEVENT
BEGIN:VEVENT
DTSTART;TZID=America/New_York:20251116T113000
DTEND;TZID=America/New_York:20251116T123000
DTSTAMP:20260424T165447
CREATED:20251107T194402Z
LAST-MODIFIED:20251107T194402Z
UID:3397-1763292600-1763296200@staging.obf.org
SUMMARY:Membership Class
DESCRIPTION:We will be having a membership class Sunday\, November 16th after second service with lunch provided! This membership class is not only for those who are interested in becoming members. It is also a great “first step” in getting to know more about Oxford Bible Fellowship! You will hear from several elders about our history\, our leadership\, our doctrinal statement\, and other things that make us distinct from other churches in the Oxford area. Please register to attend here.
URL:https://staging.obf.org/event/membership-class-6/
ATTACH;FMTTYPE=image/png:https://staging.obf.org/wp-content/uploads/2025/11/unnamed-36.png
END:VEVENT
BEGIN:VEVENT
DTSTART;TZID=America/New_York:20251121T190000
DTEND;TZID=America/New_York:20251121T210000
DTSTAMP:20260424T165447
CREATED:20251120T191837Z
LAST-MODIFIED:20251120T191837Z
UID:3405-1763751600-1763758800@staging.obf.org
SUMMARY:20/30 Connect Game Night
DESCRIPTION:Are you a young professional or grad student ready to find your people? Join 20/30 Connect this Friday from 7-9pm for our inaugural Game Night in the OBF Loft! Whether you’re into intense strategy games or just looking for some casual fun\, come join us for a relaxed evening of board games\, card games\, and good conversation. It’s the perfect zero-pressure way to meet new people in a similar stage of life\, connect\, and build great friendships within our church. We’ll bring the games and snacks—you just bring yourself! If you have more questions about the group or event\, email Katie White.
URL:https://staging.obf.org/event/20-30-connect-game-night/
ATTACH;FMTTYPE=image/png:https://staging.obf.org/wp-content/uploads/2025/11/unnamed-38.png
END:VEVENT
END:VCALENDAR