BEGIN:VCALENDAR
VERSION:2.0
PRODID:-//Oxford Bible Fellowship - ECPv6.15.20//NONSGML v1.0//EN
CALSCALE:GREGORIAN
METHOD:PUBLISH
X-ORIGINAL-URL:https://staging.obf.org
X-WR-CALDESC:Events for Oxford Bible Fellowship
REFRESH-INTERVAL;VALUE=DURATION:PT1H
X-Robots-Tag:noindex
X-PUBLISHED-TTL:PT1H
BEGIN:VTIMEZONE
TZID:America/New_York
BEGIN:DAYLIGHT
TZOFFSETFROM:-0500
TZOFFSETTO:-0400
TZNAME:EDT
DTSTART:20240310T070000
END:DAYLIGHT
BEGIN:STANDARD
TZOFFSETFROM:-0400
TZOFFSETTO:-0500
TZNAME:EST
DTSTART:20241103T060000
END:STANDARD
BEGIN:DAYLIGHT
TZOFFSETFROM:-0500
TZOFFSETTO:-0400
TZNAME:EDT
DTSTART:20250309T070000
END:DAYLIGHT
BEGIN:STANDARD
TZOFFSETFROM:-0400
TZOFFSETTO:-0500
TZNAME:EST
DTSTART:20251102T060000
END:STANDARD
BEGIN:DAYLIGHT
TZOFFSETFROM:-0500
TZOFFSETTO:-0400
TZNAME:EDT
DTSTART:20260308T070000
END:DAYLIGHT
BEGIN:STANDARD
TZOFFSETFROM:-0400
TZOFFSETTO:-0500
TZNAME:EST
DTSTART:20261101T060000
END:STANDARD
BEGIN:DAYLIGHT
TZOFFSETFROM:-0500
TZOFFSETTO:-0400
TZNAME:EDT
DTSTART:20270314T070000
END:DAYLIGHT
BEGIN:STANDARD
TZOFFSETFROM:-0400
TZOFFSETTO:-0500
TZNAME:EST
DTSTART:20271107T060000
END:STANDARD
END:VTIMEZONE
BEGIN:VEVENT
DTSTART;TZID=America/New_York:20251206T110000
DTEND;TZID=America/New_York:20251206T123000
DTSTAMP:20260424T152640
CREATED:20251120T191936Z
LAST-MODIFIED:20251205T200918Z
UID:3409-1765018800-1765024200@staging.obf.org
SUMMARY:Women's Decorating Party
DESCRIPTION:Oops! We had a scheduling conflict and are now gathering from 11am-12:30pm. Let’s get in the holiday spirit! Join us this Saturday morning for a fun\, informal time of decorating to transform our church for the Christmas season. We’ll be tying bows\, placing wreaths\, stringing lights\, and enjoying good company. Let’s have some fun and serve the church together!
URL:https://staging.obf.org/event/womens-decorating-party/
ATTACH;FMTTYPE=image/png:https://staging.obf.org/wp-content/uploads/2025/11/unnamed-39.png
END:VEVENT
BEGIN:VEVENT
DTSTART;VALUE=DATE:20251207
DTEND;VALUE=DATE:20251208
DTSTAMP:20260424T152640
CREATED:20251024T193520Z
LAST-MODIFIED:20251024T193520Z
UID:3394-1765065600-1765151999@staging.obf.org
SUMMARY:Beginning November 6: Talawanda Christmas Gift Drive
DESCRIPTION:More Information coming soon! The Talawanda Christmas Gift Drive is a way to share the love of Christ with local children and families this Christmas season. The drive will run from November 6th through December 7th.
URL:https://staging.obf.org/event/beginning-november-6-talawanda-christmas-gift-drive/
ATTACH;FMTTYPE=image/png:https://staging.obf.org/wp-content/uploads/2025/10/unnamed-35.png
END:VEVENT
BEGIN:VEVENT
DTSTART;TZID=America/New_York:20251207T120000
DTEND;TZID=America/New_York:20251207T123000
DTSTAMP:20260424T152640
CREATED:20251120T192117Z
LAST-MODIFIED:20251120T192117Z
UID:3411-1765108800-1765110600@staging.obf.org
SUMMARY:Student Ministry Parent's Meeting
DESCRIPTION:Come hear what’s happening in the life of our Student Ministry! On December 7th after second service\, parents are invited to attend an informal meeting in the Loft. This will be a chance to hear from Dan Wagner as he prepares to step into the Student Ministry Director role in the new year.
URL:https://staging.obf.org/event/student-ministry-parents-meeting/
ATTACH;FMTTYPE=image/png:https://staging.obf.org/wp-content/uploads/2025/11/unnamed-40.png
END:VEVENT
BEGIN:VEVENT
DTSTART;VALUE=DATE:20251213
DTEND;VALUE=DATE:20260106
DTSTAMP:20260424T152640
CREATED:20251120T192258Z
LAST-MODIFIED:20251214T022745Z
UID:3414-1765584000-1767657599@staging.obf.org
SUMMARY:Oxford Winter House: Help us make a difference–Volunteer today!
DESCRIPTION:Support efforts to prepare and run the Oxford Winter House\, a shelter for the unhoused in Oxford that will run 24/7 from December 1 to February 28\, regardless of outdoor temperature. Paid staff and trained volunteers will provide a warm bed\, food\, social service\, skills training\, support\, and companionship. \nTo volunteer to help prepare and serve an “OBF Tuesday Dinner” at the Oxford Winter House\, signup here or email Corrine Kidd at corrinekidd@gmail.com! 
URL:https://staging.obf.org/event/oxford-winter-house-help-us-make-a-difference-volunteer-today/
ATTACH;FMTTYPE=image/png:https://staging.obf.org/wp-content/uploads/2025/11/unnamed-41.png
END:VEVENT
BEGIN:VEVENT
DTSTART;TZID=America/New_York:20251213T090000
DTEND;TZID=America/New_York:20251213T100000
DTSTAMP:20260424T152640
CREATED:20251205T201122Z
LAST-MODIFIED:20251205T201122Z
UID:3421-1765616400-1765620000@staging.obf.org
SUMMARY:Usher Training and Breakfast
DESCRIPTION:If you are already ushering or would like more information about this role\, please attend our training and breakfast Saturday morning\, December 13th at 9am. If you plan to attend\, please contact Milly Schwegman here.
URL:https://staging.obf.org/event/usher-training-and-breakfast/
ATTACH;FMTTYPE=image/png:https://staging.obf.org/wp-content/uploads/2025/12/unnamed-42.png
END:VEVENT
BEGIN:VEVENT
DTSTART;VALUE=DATE:20251221
DTEND;VALUE=DATE:20251222
DTSTAMP:20260424T152640
CREATED:20251020T175741Z
LAST-MODIFIED:20251107T194518Z
UID:3382-1766275200-1766361599@staging.obf.org
SUMMARY:Children's Nativity
DESCRIPTION:November 2: “Children’s Nativity” Informational Meeting \nDecember 21: 1st Annual Children’s Nativity! Announcing a first-ever opportunity for our OBF children to celebrate the birth of our Lord Jesus Christ through a Nativity presented to our congregation! \nIf you have any questions\, please contact Pati Greene at pfgreene@obf.org.
URL:https://staging.obf.org/event/childrens-nativity/
ATTACH;FMTTYPE=image/png:https://staging.obf.org/wp-content/uploads/2025/10/unnamed-37.png
END:VEVENT
BEGIN:VEVENT
DTSTART;TZID=America/New_York:20251224T170000
DTEND;TZID=America/New_York:20251224T180000
DTSTAMP:20260424T152640
CREATED:20251214T022917Z
LAST-MODIFIED:20251214T022917Z
UID:3437-1766595600-1766599200@staging.obf.org
SUMMARY:Christmas Eve Service
DESCRIPTION:The Christmas Eve Service will take place from 5-6pm with a cookie reception to follow. Consider bringing a plate of family-favorite cookies to share!
URL:https://staging.obf.org/event/christmas-eve-service-2/
ATTACH;FMTTYPE=image/png:https://staging.obf.org/wp-content/uploads/2025/12/unnamed-45.png
END:VEVENT
BEGIN:VEVENT
DTSTART;TZID=America/New_York:20251224T170000
DTEND;TZID=America/New_York:20251224T235900
DTSTAMP:20260424T152640
CREATED:20251205T201439Z
LAST-MODIFIED:20251205T201439Z
UID:3428-1766595600-1766620740@staging.obf.org
SUMMARY:Christmas Eve
DESCRIPTION:The Christmas Eve Service will take place from 5-6pm with a cookie reception to follow. Consider bringing a plate of family-favorite cookies to share! \nMidnight Carols will happen later\, from 11:30pm – midnight\, and offers a special time\, in the blackness of night\, to sing of the Light that has come. This special gathering gives individuals a chance to fellowship and sing in Christmas Day.
URL:https://staging.obf.org/event/christmas-eve/
ATTACH;FMTTYPE=image/png:https://staging.obf.org/wp-content/uploads/2025/12/unnamed-44.png
END:VEVENT
BEGIN:VEVENT
DTSTART;VALUE=DATE:20251229
DTEND;VALUE=DATE:20251230
DTSTAMP:20260424T152640
CREATED:20251205T201324Z
LAST-MODIFIED:20251205T201324Z
UID:3424-1766966400-1767052799@staging.obf.org
SUMMARY:Winter Service Schedule
DESCRIPTION:December 14: Winter Schedule Begins \n\nChildren’s Ministry classes will be offered through the winter schedule. Please note\, children will participate in the sanctuary for a Family Service on December 21st and December 28th. There will be no classes offered on those dates.\nClub 45 will follow the Children’s Ministry schedule.\nFor those in Student Ministry\, please join us in the sanctuary during Sunday services. No class will be offered during the winter schedule.
URL:https://staging.obf.org/event/winter-service-schedule/
ATTACH;FMTTYPE=image/png:https://staging.obf.org/wp-content/uploads/2025/12/unnamed-43.png
END:VEVENT
END:VCALENDAR